Workbook
Name _ACC1: INDEX(IMMAGINI!$D$15:$D$18,MATCH(MODULO!$J$10,IMMAGINI!$B$15:$B$18,0))
Name _ACC2: INDEX(IMMAGINI!$D$15:$D$18,MATCH(MODULO!$Q$10,IMMAGINI!$B$15:$B$18,0))
Name _ACC3: INDEX(IMMAGINI!$D$15:$D$18,MATCH(MODULO!$X$10,IMMAGINI!$B$15:$B$18,0))
Name _ACC4: INDEX(IMMAGINI!$D$15:$D$18,MATCH(MODULO!$AE$10,IMMAGINI!$B$15:$B$18,0))
Name _ACC5: INDEX(IMMAGINI!$D$15:$D$18,MATCH(MODULO!$AL$10,IMMAGINI!$B$15:$B$18,0))
Name _ACCENSIONEintegrata1: INDEX(IMMAGINI!$D$15:$D$18,MATCH(MODULO!$J$10,IMMAGINI!$B$15:$B$18,0))
Name _ACCESSORI1: INDEX(IMMAGINI!$C$1:$C$14,MATCH(MODULO!$E$26,IMMAGINI!$B$1:$B$14,0))
Name _ACCESSORI2: INDEX(IMMAGINI!$C$1:$C$14,MATCH(MODULO!$T$26,IMMAGINI!$B$1:$B$14,0))
Name _ACCESSORI3: INDEX(IMMAGINI!$C$1:$C$14,MATCH(MODULO!$AJ$26,IMMAGINI!$B$1:$B$14,0))
Name INCASSO_DRITTA_LINIE: DATI!$AH$110
Name INCASSO_DRITTA_MEC_2: DATI!$AE$110:$AE$113
Name INCASSO_INCLINATA_MEC_4: DATI!$AG$110:$AG$113
Name INCASSO_INCLINATA_RIFT: DATI!$AK$110
Name JL_COB_esterna: DATI!$AI$110:$AI$111
Name JL_COB_incasso: DATI!$AJ$110:$AJ$111
Name LAMPADE: DATI!$AC$110:$AC$117
Name LAMPADEtipologia: INDEX(IMMAGINI!$L$1:$L$11,MATCH(MODULO!$Q$4,IMMAGINI!$K$1:$K$11,0))
Name SPORGENTE_DRITTA_MEC_1_profilo_GRIGIO: DATI!$AD$110:$AD$113
Name SPORGENTE_DRITTA_MEC_1_profilo_NERO: DATI!$AD$110:$AD$113
Name SPORGENTE_INCLINATA_MEC_3_profilo_GRIGIO: DATI!$AF$110:$AF$113
Name SPORGENTE_INCLINATA_MEC_3_profilo_NERO: DATI!$AF$110:$AF$113

Sheet MODULO
J2: RAGIONE SOCIALE : | AE2: CITTA' :
J3: AL PRONTO : | AF3: IN CASO DI LAMPADE PARTICOLARI ALLEGARE DISEGNO (scrivere in MM)
J4: LAMPADA :
B5: RIFERIMENTO | H5: → | BK5: =IFERROR(SEARCHB("MEC",$Q$4),0) -> 0
B6: =IF(OR($Q$4="incasso inclinata rift",$Q$4="INCASSO INCLINATA MEC 4",$Q$4="SPORGENTE INCLINATA MEC 3 profilo GRIGIO",$Q$4="SPORGENTE INCLINATA MEC 3 profilo NERO"),"lato alimentazione :","")
B7: QUANTITA' :
B8: TIPOLOGIA LUCE :
B9: =IF(OR($Q$4="JL COB incasso",$Q$4="INCASSO DRITTA MEC 2",$Q$4="INCASSO DRITTA LINIE"),"","CON TAPPI DI CHIUSURA :") -> CON TAPPI DI CHIUSURA :
B10: TIPOLOGIA DI ACCENSIONE :
B11: LUNGHEZZA LAMPADA FINITA :
B12: LUNGHEZZA SCHERMO : | J12: =IF(AND($Q$4="INCASSO INCLINATA RIFT",J$9="SI"),J$11-8,IF(AND($Q$4="INCASSO INCLINATA RIFT",J$9="NO"),J$11,IF(AND($Q$4="INCASSO DRITTA LINIE",J$11<>""),J$11,IF(AND($Q$4="INCASSO INCLINATA MEC 4",J$9="SI",J$10="IR INTEGRATO"),J$11-21-90&"+90",IF(AND($Q$4="INCASSO INCLINATA MEC 4",J$9="NO",J$10="IR INTEGRATO"),J$11-90&"+90",IF(AND($Q$4="SPORGENTE DRITTA MEC 1 profilo GRIGIO",J$9="SI",J$10="IR INTEGRATO"),J$11-5-90&"+90",IF(AND($Q$4="SPORGENTE DRITTA MEC 1 profilo GRIGIO",J$9="NO",J$10="IR INTEGRATO"),J$11-90&"+90",IF(AND($Q$4="SPORGENTE INCLINATA MEC 3 profilo GRIGIO",J$9="SI",J$10="IR INTEGRATO"),J$11-5-90&"+90",IF(AND($Q$4="SPORGENTE INCLINATA MEC 3 profilo GRIGIO",J$9="NO",J$10="IR INTEGRATO"),J$11-90&"+90",IF(AND($Q$4="SPORGENTE DRITTA MEC 1 profilo NERO",J$9="SI",J$10="IR INTEGRATO"),J$11-5-90&"+90",IF(AND($Q$4="SPORGENTE DRITTA MEC 1 profilo NERO",J$9="NO",J$10="IR INTEGRATO"),J$11-90&"+90",IF(AND($Q$4="SPORGENTE INCLINATA MEC 3 profilo NERO",J$9="SI",J$10="IR INTEGRATO"),J$11-5-90&"+90",IF(AND($Q$4="SPORGENTE INCLINATA MEC 3 profilo NERO",J$9="NO",J$10="IR INTEGRATO"),J$11-90&"+90",IF(AND($Q$4="INCASSO DRITTA MEC 2",J$10="IR INTEGRATO"),J11-90&"+90",IF(AND($Q$4="INCASSO INCLINATA MEC 4",J$9="SI",J$10="PIR INTEGRATO"),J$11-21-90&"+90",IF(AND($Q$4="INCASSO INCLINATA MEC 4",J$9="NO",J$10="PIR INTEGRATO"),J$11-90&"+90",IF(AND($Q$4="SPORGENTE DRITTA MEC 1 profilo GRIGIO",J$9="SI",J$10="PIR INTEGRATO"),J$11-5-90&"+90",IF(AND($Q$4="SPORGENTE DRITTA MEC 1 profilo GRIGIO",J$9="NO",J$10="PIR INTEGRATO"),J$11-90&"+90",IF(AND($Q$4="SPORGENTE INCLINATA MEC 3 profilo GRIGIO",J$9="SI",J$10="PIR INTEGRATO"),J$11-5-90&"+90",IF(AND($Q$4="SPORGENTE INCLINATA MEC 3 profilo GRIGIO",J$9="NO",J$10="PIR INTEGRATO"),J$11-90&"+90",IF(AND($Q$4="SPORGENTE DRITTA MEC 1 profilo NERO",J$9="SI",J$10="PIR INTEGRATO"),J$11-5-90&"+90",IF(AND($Q$4="SPORGENTE DRITTA MEC 1 profilo NERO",J$9="NO",J$10="PIR INTEGRATO"),J$11-90&"+90",IF(AND($Q$4="SPORGENTE INCLINATA MEC 3 profilo NERO",J$9="SI",J$10="PIR INTEGRATO"),J$11-5-90&"+90",IF(AND($Q$4="SPORGENTE INCLINATA MEC 3 profilo NERO",J$9="NO",J$10="PIR INTEGRATO"),J$11-90&"+90",IF(AND($Q$4="INCASSO DRITTA MEC 2",J$10="PIR INTEGRATO"),J11-90&"+90",IF(AND($Q$4="INCASSO INCLINATA MEC 4",J$9="SI"),J$11-21,IF(AND($Q$4="INCASSO INCLINATA MEC 4",J$9="NO"),J$11,IF(AND($Q$4="SPORGENTE DRITTA MEC 1 profilo GRIGIO",J$9="SI"),J$11-5,IF(AND($Q$4="SPORGENTE DRITTA MEC 1 profilo GRIGIO",J$9="NO"),J$11,IF(AND($Q$4="SPORGENTE INCLINATA MEC 3 profilo GRIGIO",J$9="SI"),J$11-5,IF(AND($Q$4="SPORGENTE INCLINATA MEC 3 profilo GRIGIO",J$9="NO"),J$11,IF(AND($Q$4="SPORGENTE DRITTA MEC 1 profilo NERO",J$9="SI"),J$11-5,IF(AND($Q$4="SPORGENTE DRITTA MEC 1 profilo NERO",J$9="NO"),J$11,IF(AND($Q$4="SPORGENTE INCLINATA MEC 3 profilo NERO",J$9="SI"),J$11-5,IF(AND($Q$4="SPORGENTE INCLINATA MEC 3 profilo NERO",J$9="NO"),J$11,IF(AND($Q$4="INCASSO DRITTA MEC 2",J$11<>""),J11,IF(AND($Q$4="JL COB esterna",J$9="SI",J$11<>""),J$11-4,IF(AND($Q$4="JL COB esterna",J$9="NO",J$11<>""),J$11,IF(AND($Q$4="JL COB incasso",J$11<>""),J$11,""))))))))))))))))))))))))))))))))))))))) | Q12: =IF(AND($Q$4="INCASSO INCLINATA RIFT",Q$9="SI"),Q$11-8,IF(AND($Q$4="INCASSO INCLINATA RIFT",Q$9="NO"),Q$11,IF(AND($Q$4="INCASSO DRITTA LINIE",Q$11<>""),Q$11,IF(AND($Q$4="INCASSO INCLINATA MEC 4",Q$9="SI",Q$10="IR INTEGRATO"),Q$11-21-90&"+90",IF(AND($Q$4="INCASSO INCLINATA MEC 4",Q$9="NO",Q$10="IR INTEGRATO"),Q$11-90&"+90",IF(AND($Q$4="SPORGENTE DRITTA MEC 1 profilo GRIGIO",Q$9="SI",Q$10="IR INTEGRATO"),Q$11-5-90&"+90",IF(AND($Q$4="SPORGENTE DRITTA MEC 1 profilo GRIGIO",Q$9="NO",Q$10="IR INTEGRATO"),Q$11-90&"+90",IF(AND($Q$4="SPORGENTE INCLINATA MEC 3 profilo GRIGIO",Q$9="SI",Q$10="IR INTEGRATO"),Q$11-5-90&"+90",IF(AND($Q$4="SPORGENTE INCLINATA MEC 3 profilo GRIGIO",Q$9="NO",Q$10="IR INTEGRATO"),Q$11-90&"+90",IF(AND($Q$4="SPORGENTE DRITTA MEC 1 profilo NERO",Q$9="SI",Q$10="IR INTEGRATO"),Q$11-5-90&"+90",IF(AND($Q$4="SPORGENTE DRITTA MEC 1 profilo NERO",Q$9="NO",Q$10="IR INTEGRATO"),Q$11-90&"+90",IF(AND($Q$4="SPORGENTE INCLINATA MEC 3 profilo NERO",Q$9="SI",Q$10="IR INTEGRATO"),Q$11-5-90&"+90",IF(AND($Q$4="SPORGENTE INCLINATA MEC 3 profilo NERO",Q$9="NO",Q$10="IR INTEGRATO"),Q$11-90&"+90",IF(AND($Q$4="INCASSO DRITTA MEC 2",Q$10="IR INTEGRATO"),Q11-90&"+90",IF(AND($Q$4="INCASSO INCLINATA MEC 4",Q$9="SI",Q$10="PIR INTEGRATO"),Q$11-21-90&"+90",IF(AND($Q$4="INCASSO INCLINATA MEC 4",Q$9="NO",Q$10="PIR INTEGRATO"),Q$11-90&"+90",IF(AND($Q$4="SPORGENTE DRITTA MEC 1 profilo GRIGIO",Q$9="SI",Q$10="PIR INTEGRATO"),Q$11-5-90&"+90",IF(AND($Q$4="SPORGENTE DRITTA MEC 1 profilo GRIGIO",Q$9="NO",Q$10="PIR INTEGRATO"),Q$11-90&"+90",IF(AND($Q$4="SPORGENTE INCLINATA MEC 3 profilo GRIGIO",Q$9="SI",Q$10="PIR INTEGRATO"),Q$11-5-90&"+90",IF(AND($Q$4="SPORGENTE INCLINATA MEC 3 profilo GRIGIO",Q$9="NO",Q$10="PIR INTEGRATO"),Q$11-90&"+90",IF(AND($Q$4="SPORGENTE DRITTA MEC 1 profilo NERO",Q$9="SI",Q$10="PIR INTEGRATO"),Q$11-5-90&"+90",IF(AND($Q$4="SPORGENTE DRITTA MEC 1 profilo NERO",Q$9="NO",Q$10="PIR INTEGRATO"),Q$11-90&"+90",IF(AND($Q$4="SPORGENTE INCLINATA MEC 3 profilo NERO",Q$9="SI",Q$10="PIR INTEGRATO"),Q$11-5-90&"+90",IF(AND($Q$4="SPORGENTE INCLINATA MEC 3 profilo NERO",Q$9="NO",Q$10="PIR INTEGRATO"),Q$11-90&"+90",IF(AND($Q$4="INCASSO DRITTA MEC 2",Q$10="PIR INTEGRATO"),Q11-90&"+90",IF(AND($Q$4="INCASSO INCLINATA MEC 4",Q$9="SI"),Q$11-21,IF(AND($Q$4="INCASSO INCLINATA MEC 4",Q$9="NO"),Q$11,IF(AND($Q$4="SPORGENTE DRITTA MEC 1 profilo GRIGIO",Q$9="SI"),Q$11-5,IF(AND($Q$4="SPORGENTE DRITTA MEC 1 profilo GRIGIO",Q$9="NO"),Q$11,IF(AND($Q$4="SPORGENTE INCLINATA MEC 3 profilo GRIGIO",Q$9="SI"),Q$11-5,IF(AND($Q$4="SPORGENTE INCLINATA MEC 3 profilo GRIGIO",Q$9="NO"),Q$11,IF(AND($Q$4="SPORGENTE DRITTA MEC 1 profilo NERO",Q$9="SI"),Q$11-5,IF(AND($Q$4="SPORGENTE DRITTA MEC 1 profilo NERO",Q$9="NO"),Q$11,IF(AND($Q$4="SPORGENTE INCLINATA MEC 3 profilo NERO",Q$9="SI"),Q$11-5,IF(AND($Q$4="SPORGENTE INCLINATA MEC 3 profilo NERO",Q$9="NO"),Q$11,IF(AND($Q$4="INCASSO DRITTA MEC 2",Q$11<>""),Q11,IF(AND($Q$4="JL COB esterna",Q$9="SI",Q$11<>""),Q$11-4,IF(AND($Q$4="JL COB esterna",Q$9="NO",Q$11<>""),Q$11,IF(AND($Q$4="JL COB incasso",Q$11<>""),Q$11,""))))))))))))))))))))))))))))))))))))))) | X12: =IF(AND($Q$4="INCASSO INCLINATA RIFT",X$9="SI"),X$11-8,IF(AND($Q$4="INCASSO INCLINATA RIFT",X$9="NO"),X$11,IF(AND($Q$4="INCASSO DRITTA LINIE",X$11<>""),X$11,IF(AND($Q$4="INCASSO INCLINATA MEC 4",X$9="SI",X$10="IR INTEGRATO"),X$11-21-90&"+90",IF(AND($Q$4="INCASSO INCLINATA MEC 4",X$9="NO",X$10="IR INTEGRATO"),X$11-90&"+90",IF(AND($Q$4="SPORGENTE DRITTA MEC 1 profilo GRIGIO",X$9="SI",X$10="IR INTEGRATO"),X$11-5-90&"+90",IF(AND($Q$4="SPORGENTE DRITTA MEC 1 profilo GRIGIO",X$9="NO",X$10="IR INTEGRATO"),X$11-90&"+90",IF(AND($Q$4="SPORGENTE INCLINATA MEC 3 profilo GRIGIO",X$9="SI",X$10="IR INTEGRATO"),X$11-5-90&"+90",IF(AND($Q$4="SPORGENTE INCLINATA MEC 3 profilo GRIGIO",X$9="NO",X$10="IR INTEGRATO"),X$11-90&"+90",IF(AND($Q$4="SPORGENTE DRITTA MEC 1 profilo NERO",X$9="SI",X$10="IR INTEGRATO"),X$11-5-90&"+90",IF(AND($Q$4="SPORGENTE DRITTA MEC 1 profilo NERO",X$9="NO",X$10="IR INTEGRATO"),X$11-90&"+90",IF(AND($Q$4="SPORGENTE INCLINATA MEC 3 profilo NERO",X$9="SI",X$10="IR INTEGRATO"),X$11-5-90&"+90",IF(AND($Q$4="SPORGENTE INCLINATA MEC 3 profilo NERO",X$9="NO",X$10="IR INTEGRATO"),X$11-90&"+90",IF(AND($Q$4="INCASSO DRITTA MEC 2",X$10="IR INTEGRATO"),X11-90&"+90",IF(AND($Q$4="INCASSO INCLINATA MEC 4",X$9="SI",X$10="PIR INTEGRATO"),X$11-21-90&"+90",IF(AND($Q$4="INCASSO INCLINATA MEC 4",X$9="NO",X$10="PIR INTEGRATO"),X$11-90&"+90",IF(AND($Q$4="SPORGENTE DRITTA MEC 1 profilo GRIGIO",X$9="SI",X$10="PIR INTEGRATO"),X$11-5-90&"+90",IF(AND($Q$4="SPORGENTE DRITTA MEC 1 profilo GRIGIO",X$9="NO",X$10="PIR INTEGRATO"),X$11-90&"+90",IF(AND($Q$4="SPORGENTE INCLINATA MEC 3 profilo GRIGIO",X$9="SI",X$10="PIR INTEGRATO"),X$11-5-90&"+90",IF(AND($Q$4="SPORGENTE INCLINATA MEC 3 profilo GRIGIO",X$9="NO",X$10="PIR INTEGRATO"),X$11-90&"+90",IF(AND($Q$4="SPORGENTE DRITTA MEC 1 profilo NERO",X$9="SI",X$10="PIR INTEGRATO"),X$11-5-90&"+90",IF(AND($Q$4="SPORGENTE DRITTA MEC 1 profilo NERO",X$9="NO",X$10="PIR INTEGRATO"),X$11-90&"+90",IF(AND($Q$4="SPORGENTE INCLINATA MEC 3 profilo NERO",X$9="SI",X$10="PIR INTEGRATO"),X$11-5-90&"+90",IF(AND($Q$4="SPORGENTE INCLINATA MEC 3 profilo NERO",X$9="NO",X$10="PIR INTEGRATO"),X$11-90&"+90",IF(AND($Q$4="INCASSO DRITTA MEC 2",X$10="PIR INTEGRATO"),X11-90&"+90",IF(AND($Q$4="INCASSO INCLINATA MEC 4",X$9="SI"),X$11-21,IF(AND($Q$4="INCASSO INCLINATA MEC 4",X$9="NO"),X$11,IF(AND($Q$4="SPORGENTE DRITTA MEC 1 profilo GRIGIO",X$9="SI"),X$11-5,IF(AND($Q$4="SPORGENTE DRITTA MEC 1 profilo GRIGIO",X$9="NO"),X$11,IF(AND($Q$4="SPORGENTE INCLINATA MEC 3 profilo GRIGIO",X$9="SI"),X$11-5,IF(AND($Q$4="SPORGENTE INCLINATA MEC 3 profilo GRIGIO",X$9="NO"),X$11,IF(AND($Q$4="SPORGENTE DRITTA MEC 1 profilo NERO",X$9="SI"),X$11-5,IF(AND($Q$4="SPORGENTE DRITTA MEC 1 profilo NERO",X$9="NO"),X$11,IF(AND($Q$4="SPORGENTE INCLINATA MEC 3 profilo NERO",X$9="SI"),X$11-5,IF(AND($Q$4="SPORGENTE INCLINATA MEC 3 profilo NERO",X$9="NO"),X$11,IF(AND($Q$4="INCASSO DRITTA MEC 2",X$11<>""),X11,IF(AND($Q$4="JL COB esterna",X$9="SI",X$11<>""),X$11-4,IF(AND($Q$4="JL COB esterna",X$9="NO",X$11<>""),X$11,IF(AND($Q$4="JL COB incasso",X$11<>""),X$11,""))))))))))))))))))))))))))))))))))))))) | AE12: =IF(AND($Q$4="INCASSO INCLINATA RIFT",AE$9="SI"),AE$11-8,IF(AND($Q$4="INCASSO INCLINATA RIFT",AE$9="NO"),AE$11,IF(AND($Q$4="INCASSO DRITTA LINIE",AE$11<>""),AE$11,IF(AND($Q$4="INCASSO INCLINATA MEC 4",AE$9="SI",AE$10="IR INTEGRATO"),AE$11-21-90&"+90",IF(AND($Q$4="INCASSO INCLINATA MEC 4",AE$9="NO",AE$10="IR INTEGRATO"),AE$11-90&"+90",IF(AND($Q$4="SPORGENTE DRITTA MEC 1 profilo GRIGIO",AE$9="SI",AE$10="IR INTEGRATO"),AE$11-5-90&"+90",IF(AND($Q$4="SPORGENTE DRITTA MEC 1 profilo GRIGIO",AE$9="NO",AE$10="IR INTEGRATO"),AE$11-90&"+90",IF(AND($Q$4="SPORGENTE INCLINATA MEC 3 profilo GRIGIO",AE$9="SI",AE$10="IR INTEGRATO"),AE$11-5-90&"+90",IF(AND($Q$4="SPORGENTE INCLINATA MEC 3 profilo GRIGIO",AE$9="NO",AE$10="IR INTEGRATO"),AE$11-90&"+90",IF(AND($Q$4="SPORGENTE DRITTA MEC 1 profilo NERO",AE$9="SI",AE$10="IR INTEGRATO"),AE$11-5-90&"+90",IF(AND($Q$4="SPORGENTE DRITTA MEC 1 profilo NERO",AE$9="NO",AE$10="IR INTEGRATO"),AE$11-90&"+90",IF(AND($Q$4="SPORGENTE INCLINATA MEC 3 profilo NERO",AE$9="SI",AE$10="IR INTEGRATO"),AE$11-5-90&"+90",IF(AND($Q$4="SPORGENTE INCLINATA MEC 3 profilo NERO",AE$9="NO",AE$10="IR INTEGRATO"),AE$11-90&"+90",IF(AND($Q$4="INCASSO DRITTA MEC 2",AE$10="IR INTEGRATO"),AE11-90&"+90",IF(AND($Q$4="INCASSO INCLINATA MEC 4",AE$9="SI",AE$10="PIR INTEGRATO"),AE$11-21-90&"+90",IF(AND($Q$4="INCASSO INCLINATA MEC 4",AE$9="NO",AE$10="PIR INTEGRATO"),AE$11-90&"+90",IF(AND($Q$4="SPORGENTE DRITTA MEC 1 profilo GRIGIO",AE$9="SI",AE$10="PIR INTEGRATO"),AE$11-5-90&"+90",IF(AND($Q$4="SPORGENTE DRITTA MEC 1 profilo GRIGIO",AE$9="NO",AE$10="PIR INTEGRATO"),AE$11-90&"+90",IF(AND($Q$4="SPORGENTE INCLINATA MEC 3 profilo GRIGIO",AE$9="SI",AE$10="PIR INTEGRATO"),AE$11-5-90&"+90",IF(AND($Q$4="SPORGENTE INCLINATA MEC 3 profilo GRIGIO",AE$9="NO",AE$10="PIR INTEGRATO"),AE$11-90&"+90",IF(AND($Q$4="SPORGENTE DRITTA MEC 1 profilo NERO",AE$9="SI",AE$10="PIR INTEGRATO"),AE$11-5-90&"+90",IF(AND($Q$4="SPORGENTE DRITTA MEC 1 profilo NERO",AE$9="NO",AE$10="PIR INTEGRATO"),AE$11-90&"+90",IF(AND($Q$4="SPORGENTE INCLINATA MEC 3 profilo NERO",AE$9="SI",AE$10="PIR INTEGRATO"),AE$11-5-90&"+90",IF(AND($Q$4="SPORGENTE INCLINATA MEC 3 profilo NERO",AE$9="NO",AE$10="PIR INTEGRATO"),AE$11-90&"+90",IF(AND($Q$4="INCASSO DRITTA MEC 2",AE$10="PIR INTEGRATO"),AE11-90&"+90",IF(AND($Q$4="INCASSO INCLINATA MEC 4",AE$9="SI"),AE$11-21,IF(AND($Q$4="INCASSO INCLINATA MEC 4",AE$9="NO"),AE$11,IF(AND($Q$4="SPORGENTE DRITTA MEC 1 profilo GRIGIO",AE$9="SI"),AE$11-5,IF(AND($Q$4="SPORGENTE DRITTA MEC 1 profilo GRIGIO",AE$9="NO"),AE$11,IF(AND($Q$4="SPORGENTE INCLINATA MEC 3 profilo GRIGIO",AE$9="SI"),AE$11-5,IF(AND($Q$4="SPORGENTE INCLINATA MEC 3 profilo GRIGIO",AE$9="NO"),AE$11,IF(AND($Q$4="SPORGENTE DRITTA MEC 1 profilo NERO",AE$9="SI"),AE$11-5,IF(AND($Q$4="SPORGENTE DRITTA MEC 1 profilo NERO",AE$9="NO"),AE$11,IF(AND($Q$4="SPORGENTE INCLINATA MEC 3 profilo NERO",AE$9="SI"),AE$11-5,IF(AND($Q$4="SPORGENTE INCLINATA MEC 3 profilo NERO",AE$9="NO"),AE$11,IF(AND($Q$4="INCASSO DRITTA MEC 2",AE$11<>""),AE11,IF(AND($Q$4="JL COB esterna",AE$9="SI",AE$11<>""),AE$11-4,IF(AND($Q$4="JL COB esterna",AE$9="NO",AE$11<>""),AE$11,IF(AND($Q$4="JL COB incasso",AE$11<>""),AE$11,""))))))))))))))))))))))))))))))))))))))) | AL12: =IF(AND($Q$4="INCASSO INCLINATA RIFT",AL$9="SI"),AL$11-8,IF(AND($Q$4="INCASSO INCLINATA RIFT",AL$9="NO"),AL$11,IF(AND($Q$4="INCASSO DRITTA LINIE",AL$11<>""),AL$11,IF(AND($Q$4="INCASSO INCLINATA MEC 4",AL$9="SI",AL$10="IR INTEGRATO"),AL$11-21-90&"+90",IF(AND($Q$4="INCASSO INCLINATA MEC 4",AL$9="NO",AL$10="IR INTEGRATO"),AL$11-90&"+90",IF(AND($Q$4="SPORGENTE DRITTA MEC 1 profilo GRIGIO",AL$9="SI",AL$10="IR INTEGRATO"),AL$11-5-90&"+90",IF(AND($Q$4="SPORGENTE DRITTA MEC 1 profilo GRIGIO",AL$9="NO",AL$10="IR INTEGRATO"),AL$11-90&"+90",IF(AND($Q$4="SPORGENTE INCLINATA MEC 3 profilo GRIGIO",AL$9="SI",AL$10="IR INTEGRATO"),AL$11-5-90&"+90",IF(AND($Q$4="SPORGENTE INCLINATA MEC 3 profilo GRIGIO",AL$9="NO",AL$10="IR INTEGRATO"),AL$11-90&"+90",IF(AND($Q$4="SPORGENTE DRITTA MEC 1 profilo NERO",AL$9="SI",AL$10="IR INTEGRATO"),AL$11-5-90&"+90",IF(AND($Q$4="SPORGENTE DRITTA MEC 1 profilo NERO",AL$9="NO",AL$10="IR INTEGRATO"),AL$11-90&"+90",IF(AND($Q$4="SPORGENTE INCLINATA MEC 3 profilo NERO",AL$9="SI",AL$10="IR INTEGRATO"),AL$11-5-90&"+90",IF(AND($Q$4="SPORGENTE INCLINATA MEC 3 profilo NERO",AL$9="NO",AL$10="IR INTEGRATO"),AL$11-90&"+90",IF(AND($Q$4="INCASSO DRITTA MEC 2",AL$10="IR INTEGRATO"),AL11-90&"+90",IF(AND($Q$4="INCASSO INCLINATA MEC 4",AL$9="SI",AL$10="PIR INTEGRATO"),AL$11-21-90&"+90",IF(AND($Q$4="INCASSO INCLINATA MEC 4",AL$9="NO",AL$10="PIR INTEGRATO"),AL$11-90&"+90",IF(AND($Q$4="SPORGENTE DRITTA MEC 1 profilo GRIGIO",AL$9="SI",AL$10="PIR INTEGRATO"),AL$11-5-90&"+90",IF(AND($Q$4="SPORGENTE DRITTA MEC 1 profilo GRIGIO",AL$9="NO",AL$10="PIR INTEGRATO"),AL$11-90&"+90",IF(AND($Q$4="SPORGENTE INCLINATA MEC 3 profilo GRIGIO",AL$9="SI",AL$10="PIR INTEGRATO"),AL$11-5-90&"+90",IF(AND($Q$4="SPORGENTE INCLINATA MEC 3 profilo GRIGIO",AL$9="NO",AL$10="PIR INTEGRATO"),AL$11-90&"+90",IF(AND($Q$4="SPORGENTE DRITTA MEC 1 profilo NERO",AL$9="SI",AL$10="PIR INTEGRATO"),AL$11-5-90&"+90",IF(AND($Q$4="SPORGENTE DRITTA MEC 1 profilo NERO",AL$9="NO",AL$10="PIR INTEGRATO"),AL$11-90&"+90",IF(AND($Q$4="SPORGENTE INCLINATA MEC 3 profilo NERO",AL$9="SI",AL$10="PIR INTEGRATO"),AL$11-5-90&"+90",IF(AND($Q$4="SPORGENTE INCLINATA MEC 3 profilo NERO",AL$9="NO",AL$10="PIR INTEGRATO"),AL$11-90&"+90",IF(AND($Q$4="INCASSO DRITTA MEC 2",AL$10="PIR INTEGRATO"),AL11-90&"+90",IF(AND($Q$4="INCASSO INCLINATA MEC 4",AL$9="SI"),AL$11-21,IF(AND($Q$4="INCASSO INCLINATA MEC 4",AL$9="NO"),AL$11,IF(AND($Q$4="SPORGENTE DRITTA MEC 1 profilo GRIGIO",AL$9="SI"),AL$11-5,IF(AND($Q$4="SPORGENTE DRITTA MEC 1 profilo GRIGIO",AL$9="NO"),AL$11,IF(AND($Q$4="SPORGENTE INCLINATA MEC 3 profilo GRIGIO",AL$9="SI"),AL$11-5,IF(AND($Q$4="SPORGENTE INCLINATA MEC 3 profilo GRIGIO",AL$9="NO"),AL$11,IF(AND($Q$4="SPORGENTE DRITTA MEC 1 profilo NERO",AL$9="SI"),AL$11-5,IF(AND($Q$4="SPORGENTE DRITTA MEC 1 profilo NERO",AL$9="NO"),AL$11,IF(AND($Q$4="SPORGENTE INCLINATA MEC 3 profilo NERO",AL$9="SI"),AL$11-5,IF(AND($Q$4="SPORGENTE INCLINATA MEC 3 profilo NERO",AL$9="NO"),AL$11,IF(AND($Q$4="INCASSO DRITTA MEC 2",AL$11<>""),AL11,IF(AND($Q$4="JL COB esterna",AL$9="SI",AL$11<>""),AL$11-4,IF(AND($Q$4="JL COB esterna",AL$9="NO",AL$11<>""),AL$11,IF(AND($Q$4="JL COB incasso",AL$11<>""),AL$11,"")))))))))))))))))))))))))))))))))))))))
B13: LUNGHEZZA PROFILO : | J13: =IF(AND($Q$4="INCASSO INCLINATA RIFT",J$9="SI"),J$11-8,IF(AND($Q$4="INCASSO INCLINATA RIFT",J$9="NO"),J$11,IF(AND($Q$4="INCASSO DRITTA LINIE",J$11<>""),J$11-10,IF(AND($Q$4="INCASSO INCLINATA MEC 4",J$9="SI"),J$11-21,IF(AND($Q$4="INCASSO INCLINATA MEC 4",J$9="NO"),J$11,IF(AND($Q$4="SPORGENTE DRITTA MEC 1 profilo GRIGIO",J$9="SI"),J$11-32,IF(AND($Q$4="SPORGENTE DRITTA MEC 1 profilo GRIGIO",J$9="NO"),J$11,IF(AND($Q$4="SPORGENTE INCLINATA MEC 3 profilo GRIGIO",J$9="SI"),J$11-32,IF(AND($Q$4="SPORGENTE INCLINATA MEC 3 profilo GRIGIO",J$9="NO"),J$11,IF(AND($Q$4="SPORGENTE DRITTA MEC 1 profilo NERO",J$9="SI"),J$11-32,IF(AND($Q$4="SPORGENTE DRITTA MEC 1 profilo NERO",J$9="NO"),J$11,IF(AND($Q$4="SPORGENTE INCLINATA MEC 3 profilo NERO",J$9="SI"),J$11-32,IF(AND($Q$4="SPORGENTE INCLINATA MEC 3 profilo NERO",J$9="NO"),J$11,IF(AND($Q$4="INCASSO DRITTA MEC 2",J$11<>""),J11-20,IF(AND($Q$4="JL COB esterna",J$9="SI",J$11<>""),J$11-4,IF(AND($Q$4="JL COB esterna",J$9="NO",J$11<>""),J$11,IF(AND($Q$4="JL COB incasso",J$11<>""),J$11,""))))))))))))))))) | Q13: =IF(AND($Q$4="INCASSO INCLINATA RIFT",Q$9="SI"),Q$11-8,IF(AND($Q$4="INCASSO INCLINATA RIFT",Q$9="NO"),Q$11,IF(AND($Q$4="INCASSO DRITTA LINIE",Q$11<>""),Q$11-10,IF(AND($Q$4="INCASSO INCLINATA MEC 4",Q$9="SI"),Q$11-21,IF(AND($Q$4="INCASSO INCLINATA MEC 4",Q$9="NO"),Q$11,IF(AND($Q$4="SPORGENTE DRITTA MEC 1 profilo GRIGIO",Q$9="SI"),Q$11-32,IF(AND($Q$4="SPORGENTE DRITTA MEC 1 profilo GRIGIO",Q$9="NO"),Q$11,IF(AND($Q$4="SPORGENTE INCLINATA MEC 3 profilo GRIGIO",Q$9="SI"),Q$11-32,IF(AND($Q$4="SPORGENTE INCLINATA MEC 3 profilo GRIGIO",Q$9="NO"),Q$11,IF(AND($Q$4="SPORGENTE DRITTA MEC 1 profilo NERO",Q$9="SI"),Q$11-32,IF(AND($Q$4="SPORGENTE DRITTA MEC 1 profilo NERO",Q$9="NO"),Q$11,IF(AND($Q$4="SPORGENTE INCLINATA MEC 3 profilo NERO",Q$9="SI"),Q$11-32,IF(AND($Q$4="SPORGENTE INCLINATA MEC 3 profilo NERO",Q$9="NO"),Q$11,IF(AND($Q$4="INCASSO DRITTA MEC 2",Q$11<>""),Q11-20,IF(AND($Q$4="JL COB esterna",Q$9="SI",Q$11<>""),Q$11-4,IF(AND($Q$4="JL COB esterna",Q$9="NO",Q$11<>""),Q$11,IF(AND($Q$4="JL COB incasso",Q$11<>""),Q$11,""))))))))))))))))) | X13: =IF(AND($Q$4="INCASSO INCLINATA RIFT",X$9="SI"),X$11-8,IF(AND($Q$4="INCASSO INCLINATA RIFT",X$9="NO"),X$11,IF(AND($Q$4="INCASSO DRITTA LINIE",X$11<>""),X$11-10,IF(AND($Q$4="INCASSO INCLINATA MEC 4",X$9="SI"),X$11-21,IF(AND($Q$4="INCASSO INCLINATA MEC 4",X$9="NO"),X$11,IF(AND($Q$4="SPORGENTE DRITTA MEC 1 profilo GRIGIO",X$9="SI"),X$11-32,IF(AND($Q$4="SPORGENTE DRITTA MEC 1 profilo GRIGIO",X$9="NO"),X$11,IF(AND($Q$4="SPORGENTE INCLINATA MEC 3 profilo GRIGIO",X$9="SI"),X$11-32,IF(AND($Q$4="SPORGENTE INCLINATA MEC 3 profilo GRIGIO",X$9="NO"),X$11,IF(AND($Q$4="SPORGENTE DRITTA MEC 1 profilo NERO",X$9="SI"),X$11-32,IF(AND($Q$4="SPORGENTE DRITTA MEC 1 profilo NERO",X$9="NO"),X$11,IF(AND($Q$4="SPORGENTE INCLINATA MEC 3 profilo NERO",X$9="SI"),X$11-32,IF(AND($Q$4="SPORGENTE INCLINATA MEC 3 profilo NERO",X$9="NO"),X$11,IF(AND($Q$4="INCASSO DRITTA MEC 2",X$11<>""),X11-20,IF(AND($Q$4="JL COB esterna",X$9="SI",X$11<>""),X$11-4,IF(AND($Q$4="JL COB esterna",X$9="NO",X$11<>""),X$11,IF(AND($Q$4="JL COB incasso",X$11<>""),X$11,""))))))))))))))))) | AE13: =IF(AND($Q$4="INCASSO INCLINATA RIFT",AE$9="SI"),AE$11-8,IF(AND($Q$4="INCASSO INCLINATA RIFT",AE$9="NO"),AE$11,IF(AND($Q$4="INCASSO DRITTA LINIE",AE$11<>""),AE$11-10,IF(AND($Q$4="INCASSO INCLINATA MEC 4",AE$9="SI"),AE$11-21,IF(AND($Q$4="INCASSO INCLINATA MEC 4",AE$9="NO"),AE$11,IF(AND($Q$4="SPORGENTE DRITTA MEC 1 profilo GRIGIO",AE$9="SI"),AE$11-32,IF(AND($Q$4="SPORGENTE DRITTA MEC 1 profilo GRIGIO",AE$9="NO"),AE$11,IF(AND($Q$4="SPORGENTE INCLINATA MEC 3 profilo GRIGIO",AE$9="SI"),AE$11-32,IF(AND($Q$4="SPORGENTE INCLINATA MEC 3 profilo GRIGIO",AE$9="NO"),AE$11,IF(AND($Q$4="SPORGENTE DRITTA MEC 1 profilo NERO",AE$9="SI"),AE$11-32,IF(AND($Q$4="SPORGENTE DRITTA MEC 1 profilo NERO",AE$9="NO"),AE$11,IF(AND($Q$4="SPORGENTE INCLINATA MEC 3 profilo NERO",AE$9="SI"),AE$11-32,IF(AND($Q$4="SPORGENTE INCLINATA MEC 3 profilo NERO",AE$9="NO"),AE$11,IF(AND($Q$4="INCASSO DRITTA MEC 2",AE$11<>""),AE11-20,IF(AND($Q$4="JL COB esterna",AE$9="SI",AE$11<>""),AE$11-4,IF(AND($Q$4="JL COB esterna",AE$9="NO",AE$11<>""),AE$11,IF(AND($Q$4="JL COB incasso",AE$11<>""),AE$11,""))))))))))))))))) | AL13: =IF(AND($Q$4="INCASSO INCLINATA RIFT",AL$9="SI"),AL$11-8,IF(AND($Q$4="INCASSO INCLINATA RIFT",AL$9="NO"),AL$11,IF(AND($Q$4="INCASSO DRITTA LINIE",AL$11<>""),AL$11-10,IF(AND($Q$4="INCASSO INCLINATA MEC 4",AL$9="SI"),AL$11-21,IF(AND($Q$4="INCASSO INCLINATA MEC 4",AL$9="NO"),AL$11,IF(AND($Q$4="SPORGENTE DRITTA MEC 1 profilo GRIGIO",AL$9="SI"),AL$11-32,IF(AND($Q$4="SPORGENTE DRITTA MEC 1 profilo GRIGIO",AL$9="NO"),AL$11,IF(AND($Q$4="SPORGENTE INCLINATA MEC 3 profilo GRIGIO",AL$9="SI"),AL$11-32,IF(AND($Q$4="SPORGENTE INCLINATA MEC 3 profilo GRIGIO",AL$9="NO"),AL$11,IF(AND($Q$4="SPORGENTE DRITTA MEC 1 profilo NERO",AL$9="SI"),AL$11-32,IF(AND($Q$4="SPORGENTE DRITTA MEC 1 profilo NERO",AL$9="NO"),AL$11,IF(AND($Q$4="SPORGENTE INCLINATA MEC 3 profilo NERO",AL$9="SI"),AL$11-32,IF(AND($Q$4="SPORGENTE INCLINATA MEC 3 profilo NERO",AL$9="NO"),AL$11,IF(AND($Q$4="INCASSO DRITTA MEC 2",AL$11<>""),AL11-20,IF(AND($Q$4="JL COB esterna",AL$9="SI",AL$11<>""),AL$11-4,IF(AND($Q$4="JL COB esterna",AL$9="NO",AL$11<>""),AL$11,IF(AND($Q$4="JL COB incasso",AL$11<>""),AL$11,"")))))))))))))))))
B14: STAFFA DI FISSAGGIO : | L14: =IF(OR(J7="",J14="NO",J14=""),"",IF(OR($Q$4="SPORGENTE DRITTA MEC 1 profilo GRIGIO",$Q$4="SPORGENTE INCLINATA MEC 3 profilo GRIGIO"),J7*DATI!$V$112,IF(OR($Q$4="SPORGENTE DRITTA MEC 1 profilo NERO",$Q$4="SPORGENTE INCLINATA MEC 3 profilo NERO"),J7*DATI!$V$112,IF(AND($Q$4="INCASSO DRITTA MEC 2"),J7*DATI!$V$113,IF(AND($Q$4="INCASSO INCLINATA MEC 4"),J7*DATI!$V$114,IF(AND($Q$4="JL COB ESTERNA"),J7*DATI!$V$115,IF(AND($Q$4="JL COB INCASSO"),J7*DATI!$V$115,""))))))) | S14: =IF(OR(Q7="",Q14="NO",Q14=""),"",IF(OR($Q$4="SPORGENTE DRITTA MEC 1 profilo GRIGIO",$Q$4="SPORGENTE INCLINATA MEC 3 profilo GRIGIO"),Q7*DATI!$W$112,IF(OR($Q$4="SPORGENTE DRITTA MEC 1 profilo NERO",$Q$4="SPORGENTE INCLINATA MEC 3 profilo NERO"),Q7*DATI!$W$112,IF(AND($Q$4="INCASSO DRITTA MEC 2"),Q7*DATI!$W$113,IF(AND($Q$4="INCASSO INCLINATA MEC 4"),Q7*DATI!$W$114,IF(AND($Q$4="JL COB ESTERNA"),Q7*DATI!$W$115,IF(AND($Q$4="JL COB INCASSO"),Q7*DATI!$W$115,""))))))) | Z14: =IF(OR(X7="",X14="NO",X14=""),"",IF(OR($Q$4="SPORGENTE DRITTA MEC 1 profilo GRIGIO",$Q$4="SPORGENTE INCLINATA MEC 3 profilo GRIGIO"),X7*DATI!$X$112,IF(OR($Q$4="SPORGENTE DRITTA MEC 1 profilo NERO",$Q$4="SPORGENTE INCLINATA MEC 3 profilo NERO"),X7*DATI!$X$112,IF(AND($Q$4="INCASSO DRITTA MEC 2"),X7*DATI!$X$113,IF(AND($Q$4="INCASSO INCLINATA MEC 4"),X7*DATI!$X$114,IF(AND($Q$4="JL COB ESTERNA"),X7*DATI!$X$115,IF(AND($Q$4="JL COB INCASSO"),X7*DATI!$X$115,""))))))) | AG14: =IF(OR(AE7="",AE14="NO",AE14=""),"",IF(OR($Q$4="SPORGENTE DRITTA MEC 1 profilo GRIGIO",$Q$4="SPORGENTE INCLINATA MEC 3 profilo GRIGIO"),AE7*DATI!$Y$112,IF(OR($Q$4="SPORGENTE DRITTA MEC 1 profilo NERO",$Q$4="SPORGENTE INCLINATA MEC 3 profilo NERO"),AE7*DATI!$Y$112,IF(AND($Q$4="INCASSO DRITTA MEC 2"),AE7*DATI!$Y$113,IF(AND($Q$4="INCASSO INCLINATA MEC 4"),AE7*DATI!$Y$114,IF(AND($Q$4="JL COB ESTERNA"),AE7*DATI!$Y$115,IF(AND($Q$4="JL COB INCASSO"),AE7*DATI!$Y$115,""))))))) | AN14: =IF(OR(AL7="",AL14="NO",AL14=""),"",IF(OR($Q$4="SPORGENTE DRITTA MEC 1 profilo GRIGIO",$Q$4="SPORGENTE INCLINATA MEC 3 profilo GRIGIO"),AL7*DATI!$Z$112,IF(OR($Q$4="SPORGENTE DRITTA MEC 1 profilo NERO",$Q$4="SPORGENTE INCLINATA MEC 3 profilo NERO"),AL7*DATI!$Z$112,IF(AND($Q$4="INCASSO DRITTA MEC 2"),AL7*DATI!$Z$113,IF(AND($Q$4="INCASSO INCLINATA MEC 4"),AL7*DATI!$Z$114,IF(AND($Q$4="JL COB ESTERNA"),AL7*DATI!$Z$115,IF(AND($Q$4="JL COB INCASSO"),AL7*DATI!$Z$115,"")))))))
B15: consumo WATT cad. e TOTALE : | J15: =IF(AND($Q$4="INCASSO INCLINATA RIFT",J7<>""),SUM(J13*9/1000),IF(AND($Q$4="JL COB incasso",J7<>""),SUM(J13*10/1000),IF(AND($Q$4="JL COB esterna",J7<>""),SUM(J13*10/1000),IF(AND($Q$4="INCASSO DRITTA LINIE",J7<>""),SUM(J13*9/1000),IF(AND(J7<>""),SUM(J13*11.8/1000),""))))) | M15: =IF(J15<>"",SUM(J15*J7),"") | Q15: =IF(AND($Q$4="INCASSO INCLINATA RIFT",Q7<>""),SUM(Q13*9/1000),IF(AND($Q$4="JL COB incasso",Q7<>""),SUM(Q13*10/1000),IF(AND($Q$4="JL COB esterna",Q7<>""),SUM(Q13*10/1000),IF(AND($Q$4="INCASSO DRITTA LINIE",Q7<>""),SUM(Q13*9/1000),IF(AND(Q7<>""),SUM(Q13*11.8/1000),""))))) | T15: =IF(Q15<>"",SUM(Q15*Q7),"") | X15: =IF(AND($Q$4="INCASSO INCLINATA RIFT",X7<>""),SUM(X13*9/1000),IF(AND($Q$4="JL COB incasso",X7<>""),SUM(X13*10/1000),IF(AND($Q$4="JL COB esterna",X7<>""),SUM(X13*10/1000),IF(AND($Q$4="INCASSO DRITTA LINIE",X7<>""),SUM(X13*9/1000),IF(AND(X7<>""),SUM(X13*11.8/1000),""))))) | AA15: =IF(X15<>"",SUM(X15*X7),"") | AE15: =IF(AND($Q$4="INCASSO INCLINATA RIFT",AE7<>""),SUM(AE13*9/1000),IF(AND($Q$4="JL COB incasso",AE7<>""),SUM(AE13*10/1000),IF(AND($Q$4="JL COB esterna",AE7<>""),SUM(AE13*10/1000),IF(AND($Q$4="INCASSO DRITTA LINIE",AE7<>""),SUM(AE13*9/1000),IF(AND(AE7<>""),SUM(AE13*11.8/1000),""))))) | AH15: =IF(AE15<>"",SUM(AE15*AE7),"") | AL15: =IF(AND($Q$4="INCASSO INCLINATA RIFT",AL7<>""),SUM(AL13*9/1000),IF(AND($Q$4="JL COB incasso",AL7<>""),SUM(AL13*10/1000),IF(AND($Q$4="JL COB esterna",AL7<>""),SUM(AL13*10/1000),IF(AND($Q$4="INCASSO DRITTA LINIE",AL7<>""),SUM(AL13*9/1000),IF(AND(AL7<>""),SUM(AL13*11.8/1000),""))))) | AO15: =IF(AL15<>"",SUM(AL15*AL7),"")
B16: WATTAGGIO tot. | G16: =SUM(M15,T15,AA15,AH15,AO15) -> 0
B18: ALIMENTATORI : | G18: N° pz
B20: =IF($Q$4="","",IF(OR(AND($BK$5=0,$E$26="SENSORE IR ESTERNO"),AND($BK$5=0,$T$26="SENSORE IR ESTERNO"),AND($BK$5=0,$AJ$26="SENSORE IR ESTERNO")),"48 w",IF($Q$4="JL COB esterna","60 w",IF($Q$4="JL COB incasso","60 w",IF(OR($Q$4="INCASSO DRITTA LINIE",$Q$4="INCASSO INCLINATA RIFT"),"36 w","18 w")))))
B22: =IF($Q$4="","",IF(OR(AND($BK$5=0,$E$26="SENSORE IR ESTERNO"),AND($BK$5=0,$T$26="SENSORE IR ESTERNO"),AND($BK$5=0,$AJ$26="SENSORE IR ESTERNO")),"90 w",IF($Q$4="JL COB esterna","100 w",IF($Q$4="JL COB incasso","100 w",IF(OR($Q$4="INCASSO DRITTA LINIE",$Q$4="INCASSO INCLINATA RIFT"),"60 w","48 w")))))
B24: =IF($Q$4="","",IF($Q$4="JL COB esterna","",IF($Q$4="JL COB incasso","",IF(OR($Q$4="INCASSO DRITTA LINIE",$Q$4="INCASSO INCLINATA RIFT"),"","90 w"))))
B26: ACCESSORI : | O26: N° | AE26: =IF($Q$26<>"","N°","") | AT26: =IF($AG$26<>"","N°","")
B55: =IF($A$123<>0,"DARE N°","") | E55: =IF($A$123<>0,$A$123,"") | F55: =IF($A$123<>0,"DISTRIBUTORE LINIED","") | R55: =IF($A$123<>0,"DARE N°","") | V55: =IF($A$123<>0,$A$123,"") | X55: =IF($A$123<>0,"PROLUNGA MECREELPP","")
C56: NOTE :
B59: RAGIONE SOCIALE : | G59: =P2 -> 0
B60: CITTA' : | D60: =AH2 -> 0 | R60: DATA : | U60: =IF(AT2<>"",AT2,"")
B61: =J4 -> LAMPADA : | E61: =Q4 -> 0 | O61: PREZZI PIENI
G62: N° PZ | H62: € cad. | O62: LAMPADE V.10
B63: MISURA | D63: =IF($M$12<>"",$M$12,$J$11)&" mm" -> mm | G63: =$J$7 -> 0 | H63: =IF(G63>0,IF($E$61="INCASSO INCLINATA RIFT",DATI!$E$105*2,IF($E$61="INCASSO DRITTA LINIE",DATI!$E$117*2,IF(G63>0,IF($E$61="SPORGENTE DRITTA MEC 1 profilo GRIGIO",DATI!$E$18*2,IF(G63>0,IF($E$61="SPORGENTE DRITTA MEC 1 profilo NERO",DATI!$E$18*2,IF($E$61="INCASSO DRITTA MEC 2",DATI!$E$41*2,IF($E$61="SPORGENTE INCLINATA MEC 3 profilo GRIGIO",DATI!$E$64*2,IF($E$61="SPORGENTE INCLINATA MEC 3 profilo NERO",DATI!$E$64*2,IF($E$61="INCASSO INCLINATA MEC 4",DATI!$E$87*2,IF($E$61="JL COB esterna",DATI!$E$134*2,IF($E$61="JL COB incasso",DATI!$E$150*2))))))),""))))),"")
B64: LUCE | D64: =J8 -> 0
B65: SUPPORTI | D65: =J14 -> 0
B66: CON | C66: =J10 -> 0
B68: MISURA | D68: =IF($T$12<>"",$T$12,$Q$11)&" mm" -> mm | G68: =$Q$7 -> 0 | H68: =IF(G68>0,IF($E$61="INCASSO INCLINATA RIFT",DATI!$G$105*2,IF($E$61="INCASSO DRITTA LINIE",DATI!$G$117*2,IF(G68>0,IF($E$61="SPORGENTE DRITTA MEC 1 profilo GRIGIO",DATI!$G$18*2,IF(G68>0,IF($E$61="SPORGENTE DRITTA MEC 1 profilo NERO",DATI!$G$18*2,IF($E$61="INCASSO DRITTA MEC 2",DATI!$G$41*2,IF($E$61="SPORGENTE INCLINATA MEC 3 profilo GRIGIO",DATI!$G$64*2,IF($E$61="SPORGENTE INCLINATA MEC 3 profilo NERO",DATI!$G$64*2,IF($E$61="INCASSO INCLINATA MEC 4",DATI!$G$87*2,IF($E$61="JL COB esterna",DATI!$G$134*2,IF($E$61="JL COB incasso",DATI!$G$150*2))))))),""))))),"")
B69: LUCE | D69: =Q8 -> 0
B70: SUPPORTI | D70: =Q14 -> 0
B71: CON | C71: =Q10 -> 0
B73: MISURA | D73: =IF($AA$12<>"",$AA$12,$X$11)&" mm" -> mm | G73: =$X$7 -> 0 | H73: =IF(G73>0,IF($E$61="INCASSO INCLINATA RIFT",DATI!$I$105*2,IF($E$61="INCASSO DRITTA LINIE",DATI!$I$117*2,IF(G73>0,IF($E$61="SPORGENTE DRITTA MEC 1 profilo GRIGIO",DATI!$I$18*2,IF(G73>0,IF($E$61="SPORGENTE DRITTA MEC 1 profilo NERO",DATI!$I$18*2,IF($E$61="INCASSO DRITTA MEC 2",DATI!$I$41*2,IF($E$61="SPORGENTE INCLINATA MEC 3 profilo GRIGIO",DATI!$I$64*2,IF($E$61="SPORGENTE INCLINATA MEC 3 profilo NERO",DATI!$I$64*2,IF($E$61="INCASSO INCLINATA MEC 4",DATI!$I$87*2,IF($E$61="JL COB esterna",DATI!$I$134*2,IF($E$61="JL COB incasso",DATI!$I$150*2))))))),""))))),"")
B74: LUCE | D74: =X8 -> 0
B75: SUPPORTI | D75: =X14 -> 0
B76: CON | C76: =X10 -> 0
B78: MISURA | D78: =IF($AI$12<>"",$AI$12,$AE$11)&" mm" -> mm | G78: =$AE$7 -> 0 | H78: =IF(G78>0,IF($E$61="INCASSO INCLINATA RIFT",DATI!$K$105*2,IF($E$61="INCASSO DRITTA LINIE",DATI!$K$117*2,IF(G78>0,IF($E$61="SPORGENTE DRITTA MEC 1 profilo GRIGIO",DATI!$K$18*2,IF(G78>0,IF($E$61="SPORGENTE DRITTA MEC 1 profilo NERO",DATI!$K$18*2,IF($E$61="INCASSO DRITTA MEC 2",DATI!$K$41*2,IF($E$61="SPORGENTE INCLINATA MEC 3 profilo GRIGIO",DATI!$K$64*2,IF($E$61="SPORGENTE INCLINATA MEC 3 profilo NERO",DATI!$K$64*2,IF($E$61="INCASSO INCLINATA MEC 4",DATI!$K$87*2,IF($E$61="JL COB esterna",DATI!$K$134*2,IF($E$61="JL COB incasso",DATI!$K$150*2))))))),""))))),"")
B79: LUCE | D79: =AE8 -> 0
...

Sheet KENDO CAVO
A2: LAMPADA INCASSO DRITTA KENDO CAVO
A3: QUANTITA | D3: A | H3: QUANTITA | K3: D
A4: TIPOLOGIA LUCE | H4: TIPOLOGIA LUCE
A5: TIPOLOGIA ACCENSIONE | D5: ALIMENTAZIONE CON CAVO | H5: TIPOLOGIA ACCENSIONE | K5: ALIMENTAZIONE CON CAVO
A6: LUNGHEZZA LAMPADA FINITA | H6: LUNGHEZZA LAMPADA FINITA
A7: LUNGHEZZA SCHERMO | D7: (LAMPADA FINITA) | F7: =F6 -> 0 | H7: LUNGHEZZA SCHERMO | K7: (LAMPADA FINITA) | M7: =M6 -> 0
A8: LUNGHEZZA PROFILO | D8: (-14) | F8: =F6-14 -> -14 | H8: LUNGHEZZA PROFILO | K8: (-14) | M8: =M6-14 -> -14
A9: QUANTITA | D9: B | H9: QUANTITA | K9: E
A10: TIPOLOGIA LUCE | H10: TIPOLOGIA LUCE
A11: TIPOLOGIA ACCENSIONE | D11: ALIMENTAZIONE CON CAVO | H11: TIPOLOGIA ACCENSIONE | K11: ALIMENTAZIONE CON CAVO
A12: LUNGHEZZA LAMPADA FINITA | H12: LUNGHEZZA LAMPADA FINITA
A13: LUNGHEZZA SCHERMO | D13: (LAMPADA FINITA) | F13: =F12 -> 0 | H13: LUNGHEZZA SCHERMO | K13: (LAMPADA FINITA) | M13: =M12 -> 0
A14: LUNGHEZZA PROFILO | D14: (-14) | F14: =F12-14 -> -14 | H14: LUNGHEZZA PROFILO | K14: (-14) | M14: =M12-14 -> -14
A15: QUANTITA | D15: C | H15: QUANTITA | K15: F
A16: TIPOLOGIA LUCE | H16: TIPOLOGIA LUCE
A17: TIPOLOGIA ACCENSIONE | D17: ALIMENTAZIONE CON CAVO | H17: TIPOLOGIA ACCENSIONE | K17: ALIMENTAZIONE CON CAVO
A18: LUNGHEZZA LAMPADA FINITA | H18: LUNGHEZZA LAMPADA FINITA
A19: LUNGHEZZA SCHERMO | D19: (LAMPADA FINITA) | F19: =F18 -> 0 | H19: LUNGHEZZA SCHERMO | K19: (LAMPADA FINITA) | M19: =M18 -> 0
A20: LUNGHEZZA PROFILO | D20: (-14) | F20: =F18-14 -> -14 | H20: LUNGHEZZA PROFILO | K20: (-14) | M20: =M18-14 -> -14
A21: ALIMENTATORE 18W | I21: MOLLE FISSAGGIO (6XMTL) | L21: A | M21: B | N21: C
A22: ALIMENTATORE 48W | F22: 24 VOLT | L22: D | M22: E | N22: F
A23: ALIMENTATORE 90W
F24: NOTE:
F26: CONSEGNA:

Sheet IMMAGINI
B1: CAVO GIUNZIONE TRA LED 100mm
B2: TOUCH DA INCASSO | K2: INCASSO INCLINATA RIFT | S2: 2
B3: SENSORE IR DOPPIO DA INCASSO | K3: INCASSO DRITTA LINIE | S3: 2
B4: COMANDO VOICE | K4: . | S4: 1
B5: SENSORE IR SINGOLO DA INCASSO | S5: 1
B6: SENSORE PIR INCASSO | K6: SPORGENTE DRITTA MEC 1 | N6: =INDEX(IMMAGINI!$L$3:$L$11,MATCH(MODULO!$Q$4,IMMAGINI!$K$3:$K$11,0)) -> #N/A | S6: 3
B7: SENSORE IR ESTERNO | K7: INCASSO DRITTA MEC 2 | S7: 3
B8: TOUCH DIMMER ESTERNO | K8: SPORGENTE INCLINATA MEC 3 | S8: 3
B9: SENSORE PIR ESTERNO | K9: INCASSO INCLINATA MEC 4 | S9: 3
B10: TELECOMANDO RADIO SWITCH | K10: JL COB incasso | S10: 3
B11: SWITCH DIMMER | K11: JL COB esterna
B12: KINETIC SWITCH DIMMER
B14: SENSORE IR INCASSO LUCE SOFFUSA
B15: CAVO
B16: TOUCH INTEGRATO
B17: PIR INTEGRATO
B18: IR INTEGRATO

Sheet DATI
A1: MEC 1 (esterna) | B1: prezzo con +20% | D1: n° | E1: A | F1: n° | G1: B | H1: n° | I1: C | J1: n° | K1: D | L1: n° | M1: E | O1: F
A2: Misura lampada | D2: =MODULO!$J$7 -> 0 | E2: =MODULO!$J$11 -> 0 | F2: =MODULO!$Q$7 -> 0 | G2: =MODULO!$Q$11 -> 0 | H2: =MODULO!$X$7 -> 0 | I2: =MODULO!$X$11 -> 0 | J2: =MODULO!$AE$7 -> 0 | K2: =MODULO!$AE$11 -> 0 | L2: =MODULO!$AL$7 -> 0 | M2: =MODULO!$AL$11 -> 0
A4: Montaggio | B4: 10 | E4: =$B$4 -> 10 | G4: =$B$4 -> 10 | I4: =$B$4 -> 10 | K4: =$B$4 -> 10 | M4: =$B$4 -> 10 | O4: =$B$4 -> 10
A5: Profilo | B5: 19.83 | E5: =$B$5/4300*$E$2 -> 0 | G5: =$B$5/4300*$G$2 -> 0 | I5: =$B$5/4300*I$2 -> 0 | K5: =$B$5/4300*K2 -> 0 | M5: =$B$5/4300*M$2 -> 0 | O5: =$B$5/4300*O2 -> 0
A6: Schermo | B6: 8.63 | E6: =$B$6/3000*$E$2 -> 0 | G6: =$B$6/3000*$G$2 -> 0 | I6: =$B$6/3000*I$2 -> 0 | K6: =$B$6/3000*K2 -> 0 | M6: =$B$6/3000*M$2 -> 0 | O6: =$B$6/3000*O2 -> 0
A7: Tappi | B7: 4.27 | E7: =IF(MODULO!$J$9="SI",$B$7,0) -> 0 | G7: =IF(MODULO!$Q$9="SI",$B$7,0) -> 0 | I7: =IF(MODULO!$X$9="SI",$B$7,0) -> 0 | K7: =IF(MODULO!$AE$9="SI",$B$7,0) -> 0 | M7: =IF(MODULO!$AL$9="SI",$B$7,0) -> 0 | O7: =$B$7 -> 4.27
D8: Quantità: | F8: Quantità: | H8: Quantità: | J8: Quantità: | L8: Quantità: | N8: Quantità:
A9: Cavo 3 mt | B9: 1.65 | D9: =IF(MODULO!$J$10="CAVO",1,0) -> 0 | E9: =$B$9*$D$9 -> 0 | F9: =IF(MODULO!$Q$10="CAVO",1,0) -> 0 | G9: =B9*F9 -> 0 | H9: =IF(MODULO!$X$10="CAVO",1,0) -> 0 | I9: =H9*$B$9 -> 0 | J9: =IF(MODULO!$AE$10="CAVO",1,0) -> 0 | K9: =$B$9*J9 -> 0 | L9: =IF(MODULO!$AL$10="CAVO",1,0) -> 0 | M9: =L9*$B$9 -> 0 | O9: =$B$9*N9 -> 0
A10: Supporto (2x mt) | B10: 1.17 | D10: =IF(MODULO!$L$14<>"",MODULO!$L$14/D2,0) -> 0 | E10: =$B$10*$D$10 -> 0 | F10: =IF(MODULO!$S$14<>"",MODULO!$S$14/F2,0) -> 0 | G10: =B10*F10 -> 0 | H10: =IF(MODULO!$Z$14<>"",MODULO!$Z$14/H2,0) -> 0 | I10: =H10*$B$10 -> 0 | J10: =IF(MODULO!$AG$14<>"",MODULO!$AG$14/J2,0) -> 0 | K10: =$B$10*J10 -> 0 | L10: =IF(MODULO!$AN$14<>"",MODULO!$AN$14/L2,0) -> 0 | M10: =L10*$B$10 -> 0 | O10: =$B$10*N10 -> 0
A11: Touch | B11: 9.78 | D11: =IF(MODULO!$J$10="TOUCH INTEGRATO",1,0) -> 0 | E11: =$B$11*$D$11 -> 0 | F11: =IF(MODULO!$Q$10="TOUCH INTEGRATO",1,0) -> 0 | G11: =B11*F11 -> 0 | H11: =IF(MODULO!$X$10="TOUCH INTEGRATO",1,0) -> 0 | I11: =H11*$B$11 -> 0 | J11: =IF(MODULO!$AE$10="TOUCH INTEGRATO",1,0) -> 0 | K11: =$B$11*J11 -> 0 | L11: =IF(MODULO!$AL$10="TOUCH INTEGRATO",1,0) -> 0 | M11: =L11*$B$11 -> 0 | O11: =$B$11*N11 -> 0
A12: Touch IR | B12: 11.97 | D12: =IF(MODULO!$J$10="IR INTEGRATO",1,0) -> 0 | E12: =$B$12*$D$12 -> 0 | F12: =IF(MODULO!$Q$10="IR INTEGRATO",1,0) -> 0 | G12: =B12*F12 -> 0 | H12: =IF(MODULO!$X$10="IR INTEGRATO",1,0) -> 0 | I12: =H12*$B$12 -> 0 | J12: =IF(MODULO!$AE$10="IR INTEGRATO",1,0) -> 0 | K12: =$B$12*J12 -> 0 | L12: =IF(MODULO!$AL$10="IR INTEGRATO",1,0) -> 0 | M12: =L12*$B$12 -> 0 | O12: =$B$12*N12 -> 0
A13: Sensore PIR | B13: 32.03 | D13: =IF(MODULO!$J$10="PIR INTEGRATO",1,0) -> 0 | E13: =$B$13*$D$13 -> 0 | F13: =IF(MODULO!$Q$10="PIR INTEGRATO",1,0) -> 0 | G13: =B13*F13 -> 0 | H13: =IF(MODULO!$X$10="PIR INTEGRATO",1,0) -> 0 | I13: =H13*$B$13 -> 0 | J13: =IF(MODULO!$AE$10="PIR INTEGRATO",1,0) -> 0 | K13: =$B$13*J13 -> 0 | L13: =IF(MODULO!$AL$10="PIR INTEGRATO",1,0) -> 0 | M13: =L13*$B$13 -> 0 | O13: =$B$13*N13 -> 0
E15: COSTO TOTALE LAMPADA
A16: 72 Led/metro | B16: 48.75 | E16: =(B16/5000*E2)+SUM(E4:E13) -> 10 | G16: =(B16/5000*G2)+SUM(G4:G13) -> 10 | I16: =($B$16/5000*I2)+SUM(I4:I13) -> 10 | K16: =($B$16/5000*K2)+SUM(K4:K13) -> 10 | M16: =($B$16/5000*M2)+SUM(M4:M13) -> 10 | O16: =($B$16/5000*O2)+SUM(O4:O13) -> 14.27
A17: Watt | B17: 7.8 | E17: =B17/1000*E2 -> 0 | G17: =B17/1000*G2 -> 0 | I17: =$B$17/1000*I2 -> 0 | K17: =$B$17/1000*K2 -> 0 | M17: =$B$17/1000*M2 -> 0 | O17: =$B$17/1000*O2 -> 0
A18: 108 Led/metro | B18: 71.68 | E18: =(B18/5000*E2)+SUM(E4:E13) -> 10 | G18: =(B18/5000*G2)+SUM(G4:G13) -> 10 | I18: =($B$18/5000*I2)+SUM(I4:I13) -> 10 | K18: =($B$18/5000*K2)+SUM(K4:K13) -> 10 | M18: =($B$18/5000*M2)+SUM(M4:M13) -> 10 | O18: =($B$18/5000*O2)+SUM(O4:O13) -> 14.27
A19: Watt | B19: 11.8 | E19: =B19/1000*E2 -> 0 | G19: =B19/1000*G2 -> 0 | I19: =$B$19/1000*I2 -> 0 | K19: =$B$19/1000*K2 -> 0 | M19: =$B$19/1000*M2 -> 0 | O19: =$B$19/1000*O2 -> 0
A20: 156 Led/metro | B20: 84.8 | E20: =(B20/5000*E2)+SUM(E4:E13) -> 10 | G20: =(B20/5000*G2)+SUM(G4:G13) -> 10 | I20: =($B$20/5000*I2)+SUM(I4:I13) -> 10 | K20: =($B$20/5000*K2)+SUM(K4:K13) -> 10 | M20: =($B$20/5000*M2)+SUM(M4:M13) -> 10 | O20: =($B$20/5000*O2)+SUM(O4:O13) -> 14.27
A21: Watt | B21: 16.9 | E21: =B21/1000*E2 -> 0 | G21: =B21/1000*G2 -> 0 | I21: =$B$21/1000*I2 -> 0 | K21: =$B$21/1000*K2 -> 0 | M21: =$B$21/1000*M2 -> 0 | O21: =$B$21/1000*O2 -> 0
A24: MEC 2 (incassata) | D24: n° | E24: A | F24: n° | G24: B | H24: n° | I24: C | J24: n° | K24: D | L24: n° | M24: E | O24: F
A25: Misura lampada | D25: =MODULO!$J$7 -> 0 | E25: =MODULO!$J$11 -> 0 | F25: =MODULO!$Q$7 -> 0 | G25: =MODULO!$Q$11 -> 0 | H25: =MODULO!$X$7 -> 0 | I25: =MODULO!$X$11 -> 0 | J25: =MODULO!$AE$7 -> 0 | K25: =MODULO!$AE$11 -> 0 | L25: =MODULO!$AL$7 -> 0 | M25: =MODULO!$AL$11 -> 0
A28: Montaggio | B28: 10 | E28: =B28 -> 10 | G28: =B28 -> 10 | I28: =$B$28 -> 10 | K28: =$B$28 -> 10 | M28: =$B$28 -> 10 | O28: =$B$28 -> 10
A29: Profilo | B29: 19.83 | E29: =B29/4300*E25 -> 0 | G29: =B29/4300*G25 -> 0 | I29: =$B$29/4300*I25 -> 0 | K29: =$B$29/4300*K25 -> 0 | M29: =$B$29/4300*M25 -> 0 | O29: =$B$29/4300*O25 -> 0
A30: Schermo | B30: 12.34 | E30: =B30/3000*E25 -> 0 | G30: =B30/3000*G25 -> 0 | I30: =$B$30/3000*I25 -> 0 | K30: =$B$30/3000*K25 -> 0 | M30: =$B$30/3000*M25 -> 0 | O30: =$B$30/3000*O25 -> 0
D31: Quantità: | F31: Quantità: | H31: Quantità: | J31: Quantità: | L31: Quantità: | N31: Quantità:
A32: Cavo 3 mt | B32: 1.65 | D32: =IF(MODULO!$J$10="CAVO",1,0) -> 0 | E32: =B32*D32 -> 0 | F32: =IF(MODULO!$Q$10="CAVO",1,0) -> 0 | G32: =B32*F32 -> 0 | H32: =IF(MODULO!$X$10="CAVO",1,0) -> 0 | I32: =H32*$B$32 -> 0 | J32: =IF(MODULO!$AE$10="CAVO",1,0) -> 0 | K32: =$B$32*J32 -> 0 | L32: =IF(MODULO!$AL$10="CAVO",1,0) -> 0 | M32: =L32*$B$32 -> 0 | O32: =$B$32*N32 -> 0
A33: Supporto (1x mt-cf.3pz) | B33: 2.36 | D33: =IF(MODULO!$L$14<>"",MODULO!$L$14/D25,0) -> 0 | E33: =B33*D33 -> 0 | F33: =IF(MODULO!$S$14<>"",MODULO!$S$14/F25,0) -> 0 | G33: =B33*F33 -> 0 | H33: =IF(MODULO!$Z$14<>"",MODULO!$Z$14/H25,0) -> 0 | I33: =H33*$B$33 -> 0 | J33: =IF(MODULO!$AG$14<>"",MODULO!$AG$14/J25,0) -> 0 | K33: =$B$33*J33 -> 0 | L33: =IF(MODULO!$AN$14<>"",MODULO!$AN$14/L25,0) -> 0 | M33: =L33*$B$33 -> 0 | O33: =$B$33*N33 -> 0
A34: Touch | B34: 9.78 | D34: =IF(MODULO!$J$10="TOUCH INTEGRATO",1,0) -> 0 | E34: =B34*D34 -> 0 | F34: =IF(MODULO!$Q$10="TOUCH INTEGRATO",1,0) -> 0 | G34: =B34*F34 -> 0 | H34: =IF(MODULO!$X$10="TOUCH INTEGRATO",1,0) -> 0 | I34: =H34*$B$34 -> 0 | J34: =IF(MODULO!$AE$10="TOUCH INTEGRATO",1,0) -> 0 | K34: =$B$34*J34 -> 0 | L34: =IF(MODULO!$AL$10="TOUCH INTEGRATO",1,0) -> 0 | M34: =L34*$B$34 -> 0 | O34: =$B$34*N34 -> 0
A35: Touch IR | B35: 11.97 | D35: =IF(MODULO!$J$10="IR INTEGRATO",1,0) -> 0 | E35: =B35*D35 -> 0 | F35: =IF(MODULO!$Q$10="IR INTEGRATO",1,0) -> 0 | G35: =B35*F35 -> 0 | H35: =IF(MODULO!$X$10="IR INTEGRATO",1,0) -> 0 | I35: =H35*$B$35 -> 0 | J35: =IF(MODULO!$AE$10="IR INTEGRATO",1,0) -> 0 | K35: =$B$35*J35 -> 0 | L35: =IF(MODULO!$AL$10="IR INTEGRATO",1,0) -> 0 | M35: =L35*$B$35 -> 0 | O35: =$B$35*N35 -> 0
A36: Sensore PIR | B36: 32.03 | D36: =IF(MODULO!$J$10="PIR INTEGRATO",1,0) -> 0 | E36: =B36*D36 -> 0 | F36: =IF(MODULO!$Q$10="PIR INTEGRATO",1,0) -> 0 | G36: =B36*F36 -> 0 | H36: =IF(MODULO!$X$10="PIR INTEGRATO",1,0) -> 0 | I36: =H36*$B$36 -> 0 | J36: =IF(MODULO!$AE$10="PIR INTEGRATO",1,0) -> 0 | K36: =$B$36*J36 -> 0 | L36: =IF(MODULO!$AL$10="PIR INTEGRATO",1,0) -> 0 | M36: =L36*$B$36 -> 0 | O36: =$B$36*N36 -> 0
E38: COSTO TOTALE LAMPADA
A39: 72 Led/metro | B39: 48.75 | E39: =(B39/5000*E25)+SUM(E28:E36) -> 10 | G39: =(B39/5000*G25)+SUM(G28:G36) -> 10 | I39: =($B$39/5000*I25)+SUM(I28:I36) -> 10 | K39: =($B$39/5000*K25)+SUM(K28:K36) -> 10 | M39: =($B$39/5000*M25)+SUM(M28:M36) -> 10 | O39: =($B$39/5000*O25)+SUM(O28:O36) -> 10
A40: Watt | B40: 7.8 | E40: =B40/1000*E25 -> 0 | G40: =B40/1000*G25 -> 0 | I40: =$B$40/1000*I25 -> 0 | K40: =$B$40/1000*K25 -> 0 | M40: =$B$40/1000*M25 -> 0 | O40: =$B$40/1000*O25 -> 0
A41: 108 Led/metro | B41: 71.68 | E41: =(B41/5000*E25)+SUM(E28:E36) -> 10 | G41: =(B41/5000*G25)+SUM(G28:G36) -> 10 | I41: =($B$41/5000*I25)+SUM(I28:I36) -> 10 | K41: =($B$41/5000*K25)+SUM(K28:K36) -> 10 | M41: =($B$41/5000*M25)+SUM(M28:M36) -> 10 | O41: =($B$41/5000*O25)+SUM(O28:O36) -> 10
A42: Watt | B42: 11.8 | E42: =B42/1000*E25 -> 0 | G42: =B42/1000*G25 -> 0 | I42: =$B$42/1000*I25 -> 0 | K42: =$B$42/1000*K25 -> 0 | M42: =$B$42/1000*M25 -> 0 | O42: =$B$42/1000*O25 -> 0
A43: 156 Led/metro | B43: 84.8 | E43: =(B43/5000*E25)+SUM(E28:E36) -> 10 | G43: =(B43/5000*G25)+SUM(G28:G36) -> 10 | I43: =($B$43/5000*I25)+SUM(I28:I36) -> 10 | K43: =($B$43/5000*K25)+SUM(K28:K36) -> 10 | M43: =($B$43/5000*M25)+SUM(M28:M36) -> 10 | O43: =($B$43/5000*O25)+SUM(O28:O36) -> 10
A44: Watt | B44: 16.9 | E44: =B44/1000*E25 -> 0 | G44: =B44/1000*G25 -> 0 | I44: =$B$44/1000*I25 -> 0 | K44: =$B$44/1000*K25 -> 0 | M44: =$B$44/1000*M25 -> 0 | O44: =$B$44/1000*O25 -> 0
A47: MEC 3 (inclinata) | D47: n° | E47: A | F47: n° | G47: B | H47: n° | I47: C | J47: n° | K47: D | L47: n° | M47: E | O47: F
A48: Misura lampada | D48: =MODULO!$J$7 -> 0 | E48: =MODULO!$J$11 -> 0 | F48: =MODULO!$Q$7 -> 0 | G48: =MODULO!$Q$11 -> 0 | H48: =MODULO!$X$7 -> 0 | I48: =MODULO!$X$11 -> 0 | J48: =MODULO!$AE$7 -> 0 | K48: =MODULO!$AE$11 -> 0 | L48: =MODULO!$AL$7 -> 0 | M48: =MODULO!$AL$11 -> 0
A50: Montaggio | B50: 10 | E50: =B50 -> 10 | G50: =B50 -> 10 | I50: =$B$50 -> 10 | K50: =$B$50 -> 10 | M50: =$B$50 -> 10 | O50: =$B$50 -> 10
...
