Workbook
Name _ACC1: INDEX(IMMAGINI!$D$15:$D$18,MATCH(MODULO!$J$10,IMMAGINI!$B$15:$B$18,0))
Name _ACC2: INDEX(IMMAGINI!$D$15:$D$18,MATCH(MODULO!$Q$10,IMMAGINI!$B$15:$B$18,0))
Name _ACC3: INDEX(IMMAGINI!$D$15:$D$18,MATCH(MODULO!$X$10,IMMAGINI!$B$15:$B$18,0))
Name _ACC4: INDEX(IMMAGINI!$D$15:$D$18,MATCH(MODULO!$AE$10,IMMAGINI!$B$15:$B$18,0))
Name _ACC5: INDEX(IMMAGINI!$D$15:$D$18,MATCH(MODULO!$AL$10,IMMAGINI!$B$15:$B$18,0))
Name _ACCENSIONEintegrata1: INDEX(IMMAGINI!$D$15:$D$18,MATCH(MODULO!$J$10,IMMAGINI!$B$15:$B$18,0))
Name _ACCESSORI1: INDEX(IMMAGINI!$C$1:$C$14,MATCH(MODULO!$E$26,IMMAGINI!$B$1:$B$14,0))
Name _ACCESSORI2: INDEX(IMMAGINI!$C$1:$C$14,MATCH(MODULO!$T$26,IMMAGINI!$B$1:$B$14,0))
Name _ACCESSORI3: INDEX(IMMAGINI!$C$1:$C$14,MATCH(MODULO!$AJ$26,IMMAGINI!$B$1:$B$14,0))
Name INCASSO_DRITTA_LINIE: DATI!$AH$110
Name INCASSO_DRITTA_MEC_2: DATI!$AE$110:$AE$113
Name INCASSO_INCLINATA_MEC_4: DATI!$AG$110:$AG$113
Name INCASSO_INCLINATA_RIFT: DATI!$AK$110
Name JL_COB_esterna: DATI!$AI$110:$AI$111
Name JL_COB_incasso: DATI!$AJ$110:$AJ$111
Name LAMPADE: DATI!$AC$110:$AC$117
Name LAMPADEtipologia: INDEX(IMMAGINI!$L$1:$L$11,MATCH(MODULO!$Q$4,IMMAGINI!$K$1:$K$11,0))
Name SPORGENTE_DRITTA_MEC_1_profilo_GRIGIO: DATI!$AD$110:$AD$113
Name SPORGENTE_DRITTA_MEC_1_profilo_NERO: DATI!$AD$110:$AD$113
Name SPORGENTE_INCLINATA_MEC_3_profilo_GRIGIO: DATI!$AF$110:$AF$113
Name SPORGENTE_INCLINATA_MEC_3_profilo_NERO: DATI!$AF$110:$AF$113

Sheet MODULO
J2: RAGIONE SOCIALE : | AE2: CITTA' :
J3: AL PRONTO : | AF3: IN CASO DI LAMPADE PARTICOLARI ALLEGARE DISEGNO (scrivere in MM)
J4: LAMPADA :
B5: RIFERIMENTO | H5: → | BK5: =IFERROR(SEARCHB("MEC",$Q$4),0) -> 0
B6: =IF(OR($Q$4="incasso inclinata rift",$Q$4="INCASSO INCLINATA MEC 4",$Q$4="SPORGENTE INCLINATA MEC 3 profilo GRIGIO",$Q$4="SPORGENTE INCLINATA MEC 3 profilo NERO"),"lato alimentazione :","")
B7: QUANTITA' :
B8: TIPOLOGIA LUCE :
B9: =IF(OR($Q$4="JL COB incasso",$Q$4="INCASSO DRITTA MEC 2",$Q$4="INCASSO DRITTA LINIE"),"","CON TAPPI DI CHIUSURA :") -> CON TAPPI DI CHIUSURA :
B10: TIPOLOGIA DI ACCENSIONE :
B11: LUNGHEZZA LAMPADA FINITA :
B12: LUNGHEZZA SCHERMO : | J12: =IF(AND($Q$4="INCASSO INCLINATA RIFT",J$9="SI"),J$11-8,IF(AND($Q$4="INCASSO INCLINATA RIFT",J$9="NO"),J$11,IF(AND($Q$4="INCASSO DRITTA LINIE",J$11<>""),J$11,IF(AND($Q$4="INCASSO INCLINATA MEC 4",J$9="SI",J$10="IR INTEGRATO"),J$11-21-90&"+90",IF(AND($Q$4="INCASSO INCLINATA MEC 4",J$9="NO",J$10="IR INTEGRATO"),J$11-90&"+90",IF(AND($Q$4="SPORGENTE DRITTA MEC 1 profilo GRIGIO",J$9="SI",J$10="IR INTEGRATO"),J$11-5-90&"+90",IF(AND($Q$4="SPORGENTE DRITTA MEC 1 profilo GRIGIO",J$9="NO",J$10="IR INTEGRATO"),J$11-90&"+90",IF(AND($Q$4="SPORGENTE INCLINATA MEC 3 profilo GRIGIO",J$9="SI",J$10="IR INTEGRATO"),J$11-5-90&"+90",IF(AND($Q$4="SPORGENTE INCLINATA MEC 3 profilo GRIGIO",J$9="NO",J$10="IR INTEGRATO"),J$11-90&"+90",IF(AND($Q$4="SPORGENTE DRITTA MEC 1 profilo NERO",J$9="SI",J$10="IR INTEGRATO"),J$11-5-90&"+90",IF(AND($Q$4="SPORGENTE DRITTA MEC 1 profilo NERO",J$9="NO",J$10="IR INTEGRATO"),J$11-90&"+90",IF(AND($Q$4="SPORGENTE INCLINATA MEC 3 profilo NERO",J$9="SI",J$10="IR INTEGRATO"),J$11-5-90&"+90",IF(AND($Q$4="SPORGENTE INCLINATA MEC 3 profilo NERO",J$9="NO",J$10="IR INTEGRATO"),J$11-90&"+90",IF(AND($Q$4="INCASSO DRITTA MEC 2",J$10="IR INTEGRATO"),J11-90&"+90",IF(AND($Q$4="INCASSO INCLINATA MEC 4",J$9="SI",J$10="PIR INTEGRATO"),J$11-21-90&"+90",IF(AND($Q$4="INCASSO INCLINATA MEC 4",J$9="NO",J$10="PIR INTEGRATO"),J$11-90&"+90",IF(AND($Q$4="SPORGENTE DRITTA MEC 1 profilo GRIGIO",J$9="SI",J$10="PIR INTEGRATO"),J$11-5-90&"+90",IF(AND($Q$4="SPORGENTE DRITTA MEC 1 profilo GRIGIO",J$9="NO",J$10="PIR INTEGRATO"),J$11-90&"+90",IF(AND($Q$4="SPORGENTE INCLINATA MEC 3 profilo GRIGIO",J$9="SI",J$10="PIR INTEGRATO"),J$11-5-90&"+90",IF(AND($Q$4="SPORGENTE INCLINATA MEC 3 profilo GRIGIO",J$9="NO",J$10="PIR INTEGRATO"),J$11-90&"+90",IF(AND($Q$4="SPORGENTE DRITTA MEC 1 profilo NERO",J$9="SI",J$10="PIR INTEGRATO"),J$11-5-90&"+90",IF(AND($Q$4="SPORGENTE DRITTA MEC 1 profilo NERO",J$9="NO",J$10="PIR INTEGRATO"),J$11-90&"+90",IF(AND($Q$4="SPORGENTE INCLINATA MEC 3 profilo NERO",J$9="SI",J$10="PIR INTEGRATO"),J$11-5-90&"+90",IF(AND($Q$4="SPORGENTE INCLINATA MEC 3 profilo NERO",J$9="NO",J$10="PIR INTEGRATO"),J$11-90&"+90",IF(AND($Q$4="INCASSO DRITTA MEC 2",J$10="PIR INTEGRATO"),J11-90&"+90",IF(AND($Q$4="INCASSO INCLINATA MEC 4",J$9="SI"),J$11-21,IF(AND($Q$4="INCASSO INCLINATA MEC 4",J$9="NO"),J$11,IF(AND($Q$4="SPORGENTE DRITTA MEC 1 profilo GRIGIO",J$9="SI"),J$11-5,IF(AND($Q$4="SPORGENTE DRITTA MEC 1 profilo GRIGIO",J$9="NO"),J$11,IF(AND($Q$4="SPORGENTE INCLINATA MEC 3 profilo GRIGIO",J$9="SI"),J$11-5,IF(AND($Q$4="SPORGENTE INCLINATA MEC 3 profilo GRIGIO",J$9="NO"),J$11,IF(AND($Q$4="SPORGENTE DRITTA MEC 1 profilo NERO",J$9="SI"),J$11-5,IF(AND($Q$4="SPORGENTE DRITTA MEC 1 profilo NERO",J$9="NO"),J$11,IF(AND($Q$4="SPORGENTE INCLINATA MEC 3 profilo NERO",J$9="SI"),J$11-5,IF(AND($Q$4="SPORGENTE INCLINATA MEC 3 profilo NERO",J$9="NO"),J$11,IF(AND($Q$4="INCASSO DRITTA MEC 2",J$11<>""),J11,IF(AND($Q$4="JL COB esterna",J$9="SI",J$11<>""),J$11-4,IF(AND($Q$4="JL COB esterna",J$9="NO",J$11<>""),J$11,IF(AND($Q$4="JL COB incasso",J$11<>""),J$11,""))))))))))))))))))))))))))))))))))))))) | Q12: =IF(AND($Q$4="INCASSO INCLINATA RIFT",Q$9="SI"),Q$11-8,IF(AND($Q$4="INCASSO INCLINATA RIFT",Q$9="NO"),Q$11,IF(AND($Q$4="INCASSO DRITTA LINIE",Q$11<>""),Q$11,IF(AND($Q$4="INCASSO INCLINATA MEC 4",Q$9="SI",Q$10="IR INTEGRATO"),Q$11-21-90&"+90",IF(AND($Q$4="INCASSO INCLINATA MEC 4",Q$9="NO",Q$10="IR INTEGRATO"),Q$11-90&"+90",IF(AND($Q$4="SPORGENTE DRITTA MEC 1 profilo GRIGIO",Q$9="SI",Q$10="IR INTEGRATO"),Q$11-5-90&"+90",IF(AND($Q$4="SPORGENTE DRITTA MEC 1 profilo GRIGIO",Q$9="NO",Q$10="IR INTEGRATO"),Q$11-90&"+90",IF(AND($Q$4="SPORGENTE INCLINATA MEC 3 profilo GRIGIO",Q$9="SI",Q$10="IR INTEGRATO"),Q$11-5-90&"+90",IF(AND($Q$4="SPORGENTE INCLINATA MEC 3 profilo GRIGIO",Q$9="NO",Q$10="IR INTEGRATO"),Q$11-90&"+90",IF(AND($Q$4="SPORGENTE DRITTA MEC 1 profilo NERO",Q$9="SI",Q$10="IR INTEGRATO"),Q$11-5-90&"+90",IF(AND($Q$4="SPORGENTE DRITTA MEC 1 profilo NERO",Q$9="NO",Q$10="IR INTEGRATO"),Q$11-90&"+90",IF(AND($Q$4="SPORGENTE INCLINATA MEC 3 profilo NERO",Q$9="SI",Q$10="IR INTEGRATO"),Q$11-5-90&"+90",IF(AND($Q$4="SPORGENTE INCLINATA MEC 3 profilo NERO",Q$9="NO",Q$10="IR INTEGRATO"),Q$11-90&"+90",IF(AND($Q$4="INCASSO DRITTA MEC 2",Q$10="IR INTEGRATO"),Q11-90&"+90",IF(AND($Q$4="INCASSO INCLINATA MEC 4",Q$9="SI",Q$10="PIR INTEGRATO"),Q$11-21-90&"+90",IF(AND($Q$4="INCASSO INCLINATA MEC 4",Q$9="NO",Q$10="PIR INTEGRATO"),Q$11-90&"+90",IF(AND($Q$4="SPORGENTE DRITTA MEC 1 profilo GRIGIO",Q$9="SI",Q$10="PIR INTEGRATO"),Q$11-5-90&"+90",IF(AND($Q$4="SPORGENTE DRITTA MEC 1 profilo GRIGIO",Q$9="NO",Q$10="PIR INTEGRATO"),Q$11-90&"+90",IF(AND($Q$4="SPORGENTE INCLINATA MEC 3 profilo GRIGIO",Q$9="SI",Q$10="PIR INTEGRATO"),Q$11-5-90&"+90",IF(AND($Q$4="SPORGENTE INCLINATA MEC 3 profilo GRIGIO",Q$9="NO",Q$10="PIR INTEGRATO"),Q$11-90&"+90",IF(AND($Q$4="SPORGENTE DRITTA MEC 1 profilo NERO",Q$9="SI",Q$10="PIR INTEGRATO"),Q$11-5-90&"+90",IF(AND($Q$4="SPORGENTE DRITTA MEC 1 profilo NERO",Q$9="NO",Q$10="PIR INTEGRATO"),Q$11-90&"+90",IF(AND($Q$4="SPORGENTE INCLINATA MEC 3 profilo NERO",Q$9="SI",Q$10="PIR INTEGRATO"),Q$11-5-90&"+90",IF(AND($Q$4="SPORGENTE INCLINATA MEC 3 profilo NERO",Q$9="NO",Q$10="PIR INTEGRATO"),Q$11-90&"+90",IF(AND($Q$4="INCASSO DRITTA MEC 2",Q$10="PIR INTEGRATO"),Q11-90&"+90",IF(AND($Q$4="INCASSO INCLINATA MEC 4",Q$9="SI"),Q$11-21,IF(AND($Q$4="INCASSO INCLINATA MEC 4",Q$9="NO"),Q$11,IF(AND($Q$4="SPORGENTE DRITTA MEC 1 profilo GRIGIO",Q$9="SI"),Q$11-5,IF(AND($Q$4="SPORGENTE DRITTA MEC 1 profilo GRIGIO",Q$9="NO"),Q$11,IF(AND($Q$4="SPORGENTE INCLINATA MEC 3 profilo GRIGIO",Q$9="SI"),Q$11-5,IF(AND($Q$4="SPORGENTE INCLINATA MEC 3 profilo GRIGIO",Q$9="NO"),Q$11,IF(AND($Q$4="SPORGENTE DRITTA MEC 1 profilo NERO",Q$9="SI"),Q$11-5,IF(AND($Q$4="SPORGENTE DRITTA MEC 1 profilo NERO",Q$9="NO"),Q$11,IF(AND($Q$4="SPORGENTE INCLINATA MEC 3 profilo NERO",Q$9="SI"),Q$11-5,IF(AND($Q$4="SPORGENTE INCLINATA MEC 3 profilo NERO",Q$9="NO"),Q$11,IF(AND($Q$4="INCASSO DRITTA MEC 2",Q$11<>""),Q11,IF(AND($Q$4="JL COB esterna",Q$9="SI",Q$11<>""),Q$11-4,IF(AND($Q$4="JL COB esterna",Q$9="NO",Q$11<>""),Q$11,IF(AND($Q$4="JL COB incasso",Q$11<>""),Q$11,""))))))))))))))))))))))))))))))))))))))) | X12: =IF(AND($Q$4="INCASSO INCLINATA RIFT",X$9="SI"),X$11-8,IF(AND($Q$4="INCASSO INCLINATA RIFT",X$9="NO"),X$11,IF(AND($Q$4="INCASSO DRITTA LINIE",X$11<>""),X$11,IF(AND($Q$4="INCASSO INCLINATA MEC 4",X$9="SI",X$10="IR INTEGRATO"),X$11-21-90&"+90",IF(AND($Q$4="INCASSO INCLINATA MEC 4",X$9="NO",X$10="IR INTEGRATO"),X$11-90&"+90",IF(AND($Q$4="SPORGENTE DRITTA MEC 1 profilo GRIGIO",X$9="SI",X$10="IR INTEGRATO"),X$11-5-90&"+90",IF(AND($Q$4="SPORGENTE DRITTA MEC 1 profilo GRIGIO",X$9="NO",X$10="IR INTEGRATO"),X$11-90&"+90",IF(AND($Q$4="SPORGENTE INCLINATA MEC 3 profilo GRIGIO",X$9="SI",X$10="IR INTEGRATO"),X$11-5-90&"+90",IF(AND($Q$4="SPORGENTE INCLINATA MEC 3 profilo GRIGIO",X$9="NO",X$10="IR INTEGRATO"),X$11-90&"+90",IF(AND($Q$4="SPORGENTE DRITTA MEC 1 profilo NERO",X$9="SI",X$10="IR INTEGRATO"),X$11-5-90&"+90",IF(AND($Q$4="SPORGENTE DRITTA MEC 1 profilo NERO",X$9="NO",X$10="IR INTEGRATO"),X$11-90&"+90",IF(AND($Q$4="SPORGENTE INCLINATA MEC 3 profilo NERO",X$9="SI",X$10="IR INTEGRATO"),X$11-5-90&"+90",IF(AND($Q$4="SPORGENTE INCLINATA MEC 3 profilo NERO",X$9="NO",X$10="IR INTEGRATO"),X$11-90&"+90",IF(AND($Q$4="INCASSO DRITTA MEC 2",X$10="IR INTEGRATO"),X11-90&"+90",IF(AND($Q$4="INCASSO INCLINATA MEC 4",X$9="SI",X$10="PIR INTEGRATO"),X$11-21-90&"+90",IF(AND($Q$4="INCASSO INCLINATA MEC 4",X$9="NO",X$10="PIR INTEGRATO"),X$11-90&"+90",IF(AND($Q$4="SPORGENTE DRITTA MEC 1 profilo GRIGIO",X$9="SI",X$10="PIR INTEGRATO"),X$11-5-90&"+90",IF(AND($Q$4="SPORGENTE DRITTA MEC 1 profilo GRIGIO",X$9="NO",X$10="PIR INTEGRATO"),X$11-90&"+90",IF(AND($Q$4="SPORGENTE INCLINATA MEC 3 profilo GRIGIO",X$9="SI",X$10="PIR INTEGRATO"),X$11-5-90&"+90",IF(AND($Q$4="SPORGENTE INCLINATA MEC 3 profilo GRIGIO",X$9="NO",X$10="PIR INTEGRATO"),X$11-90&"+90",IF(AND($Q$4="SPORGENTE DRITTA MEC 1 profilo NERO",X$9="SI",X$10="PIR INTEGRATO"),X$11-5-90&"+90",IF(AND($Q$4="SPORGENTE DRITTA MEC 1 profilo NERO",X$9="NO",X$10="PIR INTEGRATO"),X$11-90&"+90",IF(AND($Q$4="SPORGENTE INCLINATA MEC 3 profilo NERO",X$9="SI",X$10="PIR INTEGRATO"),X$11-5-90&"+90",IF(AND($Q$4="SPORGENTE INCLINATA MEC 3 profilo NERO",X$9="NO",X$10="PIR INTEGRATO"),X$11-90&"+90",IF(AND($Q$4="INCASSO DRITTA MEC 2",X$10="PIR INTEGRATO"),X11-90&"+90",IF(AND($Q$4="INCASSO INCLINATA MEC 4",X$9="SI"),X$11-21,IF(AND($Q$4="INCASSO INCLINATA MEC 4",X$9="NO"),X$11,IF(AND($Q$4="SPORGENTE DRITTA MEC 1 profilo GRIGIO",X$9="SI"),X$11-5,IF(AND($Q$4="SPORGENTE DRITTA MEC 1 profilo GRIGIO",X$9="NO"),X$11,IF(AND($Q$4="SPORGENTE INCLINATA MEC 3 profilo GRIGIO",X$9="SI"),X$11-5,IF(AND($Q$4="SPORGENTE INCLINATA MEC 3 profilo GRIGIO",X$9="NO"),X$11,IF(AND($Q$4="SPORGENTE DRITTA MEC 1 profilo NERO",X$9="SI"),X$11-5,IF(AND($Q$4="SPORGENTE DRITTA MEC 1 profilo NERO",X$9="NO"),X$11,IF(AND($Q$4="SPORGENTE INCLINATA MEC 3 profilo NERO",X$9="SI"),X$11-5,IF(AND($Q$4="SPORGENTE INCLINATA MEC 3 profilo NERO",X$9="NO"),X$11,IF(AND($Q$4="INCASSO DRITTA MEC 2",X$11<>""),X11,IF(AND($Q$4="JL COB esterna",X$9="SI",X$11<>""),X$11-4,IF(AND($Q$4="JL COB esterna",X$9="NO",X$11<>""),X$11,IF(AND($Q$4="JL COB incasso",X$11<>""),X$11,""))))))))))))))))))))))))))))))))))))))) | AE12: =IF(AND($Q$4="INCASSO INCLINATA RIFT",AE$9="SI"),AE$11-8,IF(AND($Q$4="INCASSO INCLINATA RIFT",AE$9="NO"),AE$11,IF(AND($Q$4="INCASSO DRITTA LINIE",AE$11<>""),AE$11,IF(AND($Q$4="INCASSO INCLINATA MEC 4",AE$9="SI",AE$10="IR INTEGRATO"),AE$11-21-90&"+90",IF(AND($Q$4="INCASSO INCLINATA MEC 4",AE$9="NO",AE$10="IR INTEGRATO"),AE$11-90&"+90",IF(AND($Q$4="SPORGENTE DRITTA MEC 1 profilo GRIGIO",AE$9="SI",AE$10="IR INTEGRATO"),AE$11-5-90&"+90",IF(AND($Q$4="SPORGENTE DRITTA MEC 1 profilo GRIGIO",AE$9="NO",AE$10="IR INTEGRATO"),AE$11-90&"+90",IF(AND($Q$4="SPORGENTE INCLINATA MEC 3 profilo GRIGIO",AE$9="SI",AE$10="IR INTEGRATO"),AE$11-5-90&"+90",IF(AND($Q$4="SPORGENTE INCLINATA MEC 3 profilo GRIGIO",AE$9="NO",AE$10="IR INTEGRATO"),AE$11-90&"+90",IF(AND($Q$4="SPORGENTE DRITTA MEC 1 profilo NERO",AE$9="SI",AE$10="IR INTEGRATO"),AE$11-5-90&"+90",IF(AND($Q$4="SPORGENTE DRITTA MEC 1 profilo NERO",AE$9="NO",AE$10="IR INTEGRATO"),AE$11-90&"+90",IF(AND($Q$4="SPORGENTE INCLINATA MEC 3 profilo NERO",AE$9="SI",AE$10="IR INTEGRATO"),AE$11-5-90&"+90",IF(AND($Q$4="SPORGENTE INCLINATA MEC 3 profilo NERO",AE$9="NO",AE$10="IR INTEGRATO"),AE$11-90&"+90",IF(AND($Q$4="INCASSO DRITTA MEC 2",AE$10="IR INTEGRATO"),AE11-90&"+90",IF(AND($Q$4="INCASSO INCLINATA MEC 4",AE$9="SI",AE$10="PIR INTEGRATO"),AE$11-21-90&"+90",IF(AND($Q$4="INCASSO INCLINATA MEC 4",AE$9="NO",AE$10="PIR INTEGRATO"),AE$11-90&"+90",IF(AND($Q$4="SPORGENTE DRITTA MEC 1 profilo GRIGIO",AE$9="SI",AE$10="PIR INTEGRATO"),AE$11-5-90&"+90",IF(AND($Q$4="SPORGENTE DRITTA MEC 1 profilo GRIGIO",AE$9="NO",AE$10="PIR INTEGRATO"),AE$11-90&"+90",IF(AND($Q$4="SPORGENTE INCLINATA MEC 3 profilo GRIGIO",AE$9="SI",AE$10="PIR INTEGRATO"),AE$11-5-90&"+90",IF(AND($Q$4="SPORGENTE INCLINATA MEC 3 profilo GRIGIO",AE$9="NO",AE$10="PIR INTEGRATO"),AE$11-90&"+90",IF(AND($Q$4="SPORGENTE DRITTA MEC 1 profilo NERO",AE$9="SI",AE$10="PIR INTEGRATO"),AE$11-5-90&"+90",IF(AND($Q$4="SPORGENTE DRITTA MEC 1 profilo NERO",AE$9="NO",AE$10="PIR INTEGRATO"),AE$11-90&"+90",IF(AND($Q$4="SPORGENTE INCLINATA MEC 3 profilo NERO",AE$9="SI",AE$10="PIR INTEGRATO"),AE$11-5-90&"+90",IF(AND($Q$4="SPORGENTE INCLINATA MEC 3 profilo NERO",AE$9="NO",AE$10="PIR INTEGRATO"),AE$11-90&"+90",IF(AND($Q$4="INCASSO DRITTA MEC 2",AE$10="PIR INTEGRATO"),AE11-90&"+90",IF(AND($Q$4="INCASSO INCLINATA MEC 4",AE$9="SI"),AE$11-21,IF(AND($Q$4="INCASSO INCLINATA MEC 4",AE$9="NO"),AE$11,IF(AND($Q$4="SPORGENTE DRITTA MEC 1 profilo GRIGIO",AE$9="SI"),AE$11-5,IF(AND($Q$4="SPORGENTE DRITTA MEC 1 profilo GRIGIO",AE$9="NO"),AE$11,IF(AND($Q$4="SPORGENTE INCLINATA MEC 3 profilo GRIGIO",AE$9="SI"),AE$11-5,IF(AND($Q$4="SPORGENTE INCLINATA MEC 3 profilo GRIGIO",AE$9="NO"),AE$11,IF(AND($Q$4="SPORGENTE DRITTA MEC 1 profilo NERO",AE$9="SI"),AE$11-5,IF(AND($Q$4="SPORGENTE DRITTA MEC 1 profilo NERO",AE$9="NO"),AE$11,IF(AND($Q$4="SPORGENTE INCLINATA MEC 3 profilo NERO",AE$9="SI"),AE$11-5,IF(AND($Q$4="SPORGENTE INCLINATA MEC 3 profilo NERO",AE$9="NO"),AE$11,IF(AND($Q$4="INCASSO DRITTA MEC 2",AE$11<>""),AE11,IF(AND($Q$4="JL COB esterna",AE$9="SI",AE$11<>""),AE$11-4,IF(AND($Q$4="JL COB esterna",AE$9="NO",AE$11<>""),AE$11,IF(AND($Q$4="JL COB incasso",AE$11<>""),AE$11,""))))))))))))))))))))))))))))))))))))))) | AL12: =IF(AND($Q$4="INCASSO INCLINATA RIFT",AL$9="SI"),AL$11-8,IF(AND($Q$4="INCASSO INCLINATA RIFT",AL$9="NO"),AL$11,IF(AND($Q$4="INCASSO DRITTA LINIE",AL$11<>""),AL$11,IF(AND($Q$4="INCASSO INCLINATA MEC 4",AL$9="SI",AL$10="IR INTEGRATO"),AL$11-21-90&"+90",IF(AND($Q$4="INCASSO INCLINATA MEC 4",AL$9="NO",AL$10="IR INTEGRATO"),AL$11-90&"+90",IF(AND($Q$4="SPORGENTE DRITTA MEC 1 profilo GRIGIO",AL$9="SI",AL$10="IR INTEGRATO"),AL$11-5-90&"+90",IF(AND($Q$4="SPORGENTE DRITTA MEC 1 profilo GRIGIO",AL$9="NO",AL$10="IR INTEGRATO"),AL$11-90&"+90",IF(AND($Q$4="SPORGENTE INCLINATA MEC 3 profilo GRIGIO",AL$9="SI",AL$10="IR INTEGRATO"),AL$11-5-90&"+90",IF(AND($Q$4="SPORGENTE INCLINATA MEC 3 profilo GRIGIO",AL$9="NO",AL$10="IR INTEGRATO"),AL$11-90&"+90",IF(AND($Q$4="SPORGENTE DRITTA MEC 1 profilo NERO",AL$9="SI",AL$10="IR INTEGRATO"),AL$11-5-90&"+90",IF(AND($Q$4="SPORGENTE DRITTA MEC 1 profilo NERO",AL$9="NO",AL$10="IR INTEGRATO"),AL$11-90&"+90",IF(AND($Q$4="SPORGENTE INCLINATA MEC 3 profilo NERO",AL$9="SI",AL$10="IR INTEGRATO"),AL$11-5-90&"+90",IF(AND($Q$4="SPORGENTE INCLINATA MEC 3 profilo NERO",AL$9="NO",AL$10="IR INTEGRATO"),AL$11-90&"+90",IF(AND($Q$4="INCASSO DRITTA MEC 2",AL$10="IR INTEGRATO"),AL11-90&"+90",IF(AND($Q$4="INCASSO INCLINATA MEC 4",AL$9="SI",AL$10="PIR INTEGRATO"),AL$11-21-90&"+90",IF(AND($Q$4="INCASSO INCLINATA MEC 4",AL$9="NO",AL$10="PIR INTEGRATO"),AL$11-90&"+90",IF(AND($Q$4="SPORGENTE DRITTA MEC 1 profilo GRIGIO",AL$9="SI",AL$10="PIR INTEGRATO"),AL$11-5-90&"+90",IF(AND($Q$4="SPORGENTE DRITTA MEC 1 profilo GRIGIO",AL$9="NO",AL$10="PIR INTEGRATO"),AL$11-90&"+90",IF(AND($Q$4="SPORGENTE INCLINATA MEC 3 profilo GRIGIO",AL$9="SI",AL$10="PIR INTEGRATO"),AL$11-5-90&"+90",IF(AND($Q$4="SPORGENTE INCLINATA MEC 3 profilo GRIGIO",AL$9="NO",AL$10="PIR INTEGRATO"),AL$11-90&"+90",IF(AND($Q$4="SPORGENTE DRITTA MEC 1 profilo NERO",AL$9="SI",AL$10="PIR INTEGRATO"),AL$11-5-90&"+90",IF(AND($Q$4="SPORGENTE DRITTA MEC 1 profilo NERO",AL$9="NO",AL$10="PIR INTEGRATO"),AL$11-90&"+90",IF(AND($Q$4="SPORGENTE INCLINATA MEC 3 profilo NERO",AL$9="SI",AL$10="PIR INTEGRATO"),AL$11-5-90&"+90",IF(AND($Q$4="SPORGENTE INCLINATA MEC 3 profilo NERO",AL$9="NO",AL$10="PIR INTEGRATO"),AL$11-90&"+90",IF(AND($Q$4="INCASSO DRITTA MEC 2",AL$10="PIR INTEGRATO"),AL11-90&"+90",IF(AND($Q$4="INCASSO INCLINATA MEC 4",AL$9="SI"),AL$11-21,IF(AND($Q$4="INCASSO INCLINATA MEC 4",AL$9="NO"),AL$11,IF(AND($Q$4="SPORGENTE DRITTA MEC 1 profilo GRIGIO",AL$9="SI"),AL$11-5,IF(AND($Q$4="SPORGENTE DRITTA MEC 1 profilo GRIGIO",AL$9="NO"),AL$11,IF(AND($Q$4="SPORGENTE INCLINATA MEC 3 profilo GRIGIO",AL$9="SI"),AL$11-5,IF(AND($Q$4="SPORGENTE INCLINATA MEC 3 profilo GRIGIO",AL$9="NO"),AL$11,IF(AND($Q$4="SPORGENTE DRITTA MEC 1 profilo NERO",AL$9="SI"),AL$11-5,IF(AND($Q$4="SPORGENTE DRITTA MEC 1 profilo NERO",AL$9="NO"),AL$11,IF(AND($Q$4="SPORGENTE INCLINATA MEC 3 profilo NERO",AL$9="SI"),AL$11-5,IF(AND($Q$4="SPORGENTE INCLINATA MEC 3 profilo NERO",AL$9="NO"),AL$11,IF(AND($Q$4="INCASSO DRITTA MEC 2",AL$11<>""),AL11,IF(AND($Q$4="JL COB esterna",AL$9="SI",AL$11<>""),AL$11-4,IF(AND($Q$4="JL COB esterna",AL$9="NO",AL$11<>""),AL$11,IF(AND($Q$4="JL COB incasso",AL$11<>""),AL$11,"")))))))))))))))))))))))))))))))))))))))
B13: LUNGHEZZA PROFILO : | J13: =IF(AND($Q$4="INCASSO INCLINATA RIFT",J$9="SI"),J$11-8,IF(AND($Q$4="INCASSO INCLINATA RIFT",J$9="NO"),J$11,IF(AND($Q$4="INCASSO DRITTA LINIE",J$11<>""),J$11-10,IF(AND($Q$4="INCASSO INCLINATA MEC 4",J$9="SI"),J$11-21,IF(AND($Q$4="INCASSO INCLINATA MEC 4",J$9="NO"),J$11,IF(AND($Q$4="SPORGENTE DRITTA MEC 1 profilo GRIGIO",J$9="SI"),J$11-32,IF(AND($Q$4="SPORGENTE DRITTA MEC 1 profilo GRIGIO",J$9="NO"),J$11,IF(AND($Q$4="SPORGENTE INCLINATA MEC 3 profilo GRIGIO",J$9="SI"),J$11-32,IF(AND($Q$4="SPORGENTE INCLINATA MEC 3 profilo GRIGIO",J$9="NO"),J$11,IF(AND($Q$4="SPORGENTE DRITTA MEC 1 profilo NERO",J$9="SI"),J$11-32,IF(AND($Q$4="SPORGENTE DRITTA MEC 1 profilo NERO",J$9="NO"),J$11,IF(AND($Q$4="SPORGENTE INCLINATA MEC 3 profilo NERO",J$9="SI"),J$11-32,IF(AND($Q$4="SPORGENTE INCLINATA MEC 3 profilo NERO",J$9="NO"),J$11,IF(AND($Q$4="INCASSO DRITTA MEC 2",J$11<>""),J11-20,IF(AND($Q$4="JL COB esterna",J$9="SI",J$11<>""),J$11-4,IF(AND($Q$4="JL COB esterna",J$9="NO",J$11<>""),J$11,IF(AND($Q$4="JL COB incasso",J$11<>""),J$11,""))))))))))))))))) | Q13: =IF(AND($Q$4="INCASSO INCLINATA RIFT",Q$9="SI"),Q$11-8,IF(AND($Q$4="INCASSO INCLINATA RIFT",Q$9="NO"),Q$11,IF(AND($Q$4="INCASSO DRITTA LINIE",Q$11<>""),Q$11-10,IF(AND($Q$4="INCASSO INCLINATA MEC 4",Q$9="SI"),Q$11-21,IF(AND($Q$4="INCASSO INCLINATA MEC 4",Q$9="NO"),Q$11,IF(AND($Q$4="SPORGENTE DRITTA MEC 1 profilo GRIGIO",Q$9="SI"),Q$11-32,IF(AND($Q$4="SPORGENTE DRITTA MEC 1 profilo GRIGIO",Q$9="NO"),Q$11,IF(AND($Q$4="SPORGENTE INCLINATA MEC 3 profilo GRIGIO",Q$9="SI"),Q$11-32,IF(AND($Q$4="SPORGENTE INCLINATA MEC 3 profilo GRIGIO",Q$9="NO"),Q$11,IF(AND($Q$4="SPORGENTE DRITTA MEC 1 profilo NERO",Q$9="SI"),Q$11-32,IF(AND($Q$4="SPORGENTE DRITTA MEC 1 profilo NERO",Q$9="NO"),Q$11,IF(AND($Q$4="SPORGENTE INCLINATA MEC 3 profilo NERO",Q$9="SI"),Q$11-32,IF(AND($Q$4="SPORGENTE INCLINATA MEC 3 profilo NERO",Q$9="NO"),Q$11,IF(AND($Q$4="INCASSO DRITTA MEC 2",Q$11<>""),Q11-20,IF(AND($Q$4="JL COB esterna",Q$9="SI",Q$11<>""),Q$11-4,IF(AND($Q$4="JL COB esterna",Q$9="NO",Q$11<>""),Q$11,IF(AND($Q$4="JL COB incasso",Q$11<>""),Q$11,""))))))))))))))))) | X13: =IF(AND($Q$4="INCASSO INCLINATA RIFT",X$9="SI"),X$11-8,IF(AND($Q$4="INCASSO INCLINATA RIFT",X$9="NO"),X$11,IF(AND($Q$4="INCASSO DRITTA LINIE",X$11<>""),X$11-10,IF(AND($Q$4="INCASSO INCLINATA MEC 4",X$9="SI"),X$11-21,IF(AND($Q$4="INCASSO INCLINATA MEC 4",X$9="NO"),X$11,IF(AND($Q$4="SPORGENTE DRITTA MEC 1 profilo GRIGIO",X$9="SI"),X$11-32,IF(AND($Q$4="SPORGENTE DRITTA MEC 1 profilo GRIGIO",X$9="NO"),X$11,IF(AND($Q$4="SPORGENTE INCLINATA MEC 3 profilo GRIGIO",X$9="SI"),X$11-32,IF(AND($Q$4="SPORGENTE INCLINATA MEC 3 profilo GRIGIO",X$9="NO"),X$11,IF(AND($Q$4="SPORGENTE DRITTA MEC 1 profilo NERO",X$9="SI"),X$11-32,IF(AND($Q$4="SPORGENTE DRITTA MEC 1 profilo NERO",X$9="NO"),X$11,IF(AND($Q$4="SPORGENTE INCLINATA MEC 3 profilo NERO",X$9="SI"),X$11-32,IF(AND($Q$4="SPORGENTE INCLINATA MEC 3 profilo NERO",X$9="NO"),X$11,IF(AND($Q$4="INCASSO DRITTA MEC 2",X$11<>""),X11-20,IF(AND($Q$4="JL COB esterna",X$9="SI",X$11<>""),X$11-4,IF(AND($Q$4="JL COB esterna",X$9="NO",X$11<>""),X$11,IF(AND($Q$4="JL COB incasso",X$11<>""),X$11,""))))))))))))))))) | AE13: =IF(AND($Q$4="INCASSO INCLINATA RIFT",AE$9="SI"),AE$11-8,IF(AND($Q$4="INCASSO INCLINATA RIFT",AE$9="NO"),AE$11,IF(AND($Q$4="INCASSO DRITTA LINIE",AE$11<>""),AE$11-10,IF(AND($Q$4="INCASSO INCLINATA MEC 4",AE$9="SI"),AE$11-21,IF(AND($Q$4="INCASSO INCLINATA MEC 4",AE$9="NO"),AE$11,IF(AND($Q$4="SPORGENTE DRITTA MEC 1 profilo GRIGIO",AE$9="SI"),AE$11-32,IF(AND($Q$4="SPORGENTE DRITTA MEC 1 profilo GRIGIO",AE$9="NO"),AE$11,IF(AND($Q$4="SPORGENTE INCLINATA MEC 3 profilo GRIGIO",AE$9="SI"),AE$11-32,IF(AND($Q$4="SPORGENTE INCLINATA MEC 3 profilo GRIGIO",AE$9="NO"),AE$11,IF(AND($Q$4="SPORGENTE DRITTA MEC 1 profilo NERO",AE$9="SI"),AE$11-32,IF(AND($Q$4="SPORGENTE DRITTA MEC 1 profilo NERO",AE$9="NO"),AE$11,IF(AND($Q$4="SPORGENTE INCLINATA MEC 3 profilo NERO",AE$9="SI"),AE$11-32,IF(AND($Q$4="SPORGENTE INCLINATA MEC 3 profilo NERO",AE$9="NO"),AE$11,IF(AND($Q$4="INCASSO DRITTA MEC 2",AE$11<>""),AE11-20,IF(AND($Q$4="JL COB esterna",AE$9="SI",AE$11<>""),AE$11-4,IF(AND($Q$4="JL COB esterna",AE$9="NO",AE$11<>""),AE$11,IF(AND($Q$4="JL COB incasso",AE$11<>""),AE$11,""))))))))))))))))) | AL13: =IF(AND($Q$4="INCASSO INCLINATA RIFT",AL$9="SI"),AL$11-8,IF(AND($Q$4="INCASSO INCLINATA RIFT",AL$9="NO"),AL$11,IF(AND($Q$4="INCASSO DRITTA LINIE",AL$11<>""),AL$11-10,IF(AND($Q$4="INCASSO INCLINATA MEC 4",AL$9="SI"),AL$11-21,IF(AND($Q$4="INCASSO INCLINATA MEC 4",AL$9="NO"),AL$11,IF(AND($Q$4="SPORGENTE DRITTA MEC 1 profilo GRIGIO",AL$9="SI"),AL$11-32,IF(AND($Q$4="SPORGENTE DRITTA MEC 1 profilo GRIGIO",AL$9="NO"),AL$11,IF(AND($Q$4="SPORGENTE INCLINATA MEC 3 profilo GRIGIO",AL$9="SI"),AL$11-32,IF(AND($Q$4="SPORGENTE INCLINATA MEC 3 profilo GRIGIO",AL$9="NO"),AL$11,IF(AND($Q$4="SPORGENTE DRITTA MEC 1 profilo NERO",AL$9="SI"),AL$11-32,IF(AND($Q$4="SPORGENTE DRITTA MEC 1 profilo NERO",AL$9="NO"),AL$11,IF(AND($Q$4="SPORGENTE INCLINATA MEC 3 profilo NERO",AL$9="SI"),AL$11-32,IF(AND($Q$4="SPORGENTE INCLINATA MEC 3 profilo NERO",AL$9="NO"),AL$11,IF(AND($Q$4="INCASSO DRITTA MEC 2",AL$11<>""),AL11-20,IF(AND($Q$4="JL COB esterna",AL$9="SI",AL$11<>""),AL$11-4,IF(AND($Q$4="JL COB esterna",AL$9="NO",AL$11<>""),AL$11,IF(AND($Q$4="JL COB incasso",AL$11<>""),AL$11,"")))))))))))))))))
B14: STAFFA DI FISSAGGIO : | L14: =IF(OR(J7="",J14="NO",J14=""),"",IF(OR($Q$4="SPORGENTE DRITTA MEC 1 profilo GRIGIO",$Q$4="SPORGENTE INCLINATA MEC 3 profilo GRIGIO"),J7*DATI!$V$112,IF(OR($Q$4="SPORGENTE DRITTA MEC 1 profilo NERO",$Q$4="SPORGENTE INCLINATA MEC 3 profilo NERO"),J7*DATI!$V$112,IF(AND($Q$4="INCASSO DRITTA MEC 2"),J7*DATI!$V$113,IF(AND($Q$4="INCASSO INCLINATA MEC 4"),J7*DATI!$V$114,IF(AND($Q$4="JL COB ESTERNA"),J7*DATI!$V$115,IF(AND($Q$4="JL COB INCASSO"),J7*DATI!$V$115,""))))))) | S14: =IF(OR(Q7="",Q14="NO",Q14=""),"",IF(OR($Q$4="SPORGENTE DRITTA MEC 1 profilo GRIGIO",$Q$4="SPORGENTE INCLINATA MEC 3 profilo GRIGIO"),Q7*DATI!$W$112,IF(OR($Q$4="SPORGENTE DRITTA MEC 1 profilo NERO",$Q$4="SPORGENTE INCLINATA MEC 3 profilo NERO"),Q7*DATI!$W$112,IF(AND($Q$4="INCASSO DRITTA MEC 2"),Q7*DATI!$W$113,IF(AND($Q$4="INCASSO INCLINATA MEC 4"),Q7*DATI!$W$114,IF(AND($Q$4="JL COB ESTERNA"),Q7*DATI!$W$115,IF(AND($Q$4="JL COB INCASSO"),Q7*DATI!$W$115,""))))))) | Z14: =IF(OR(X7="",X14="NO",X14=""),"",IF(OR($Q$4="SPORGENTE DRITTA MEC 1 profilo GRIGIO",$Q$4="SPORGENTE INCLINATA MEC 3 profilo GRIGIO"),X7*DATI!$X$112,IF(OR($Q$4="SPORGENTE DRITTA MEC 1 profilo NERO",$Q$4="SPORGENTE INCLINATA MEC 3 profilo NERO"),X7*DATI!$X$112,IF(AND($Q$4="INCASSO DRITTA MEC 2"),X7*DATI!$X$113,IF(AND($Q$4="INCASSO INCLINATA MEC 4"),X7*DATI!$X$114,IF(AND($Q$4="JL COB ESTERNA"),X7*DATI!$X$115,IF(AND($Q$4="JL COB INCASSO"),X7*DATI!$X$115,""))))))) | AG14: =IF(OR(AE7="",AE14="NO",AE14=""),"",IF(OR($Q$4="SPORGENTE DRITTA MEC 1 profilo GRIGIO",$Q$4="SPORGENTE INCLINATA MEC 3 profilo GRIGIO"),AE7*DATI!$Y$112,IF(OR($Q$4="SPORGENTE DRITTA MEC 1 profilo NERO",$Q$4="SPORGENTE INCLINATA MEC 3 profilo NERO"),AE7*DATI!$Y$112,IF(AND($Q$4="INCASSO DRITTA MEC 2"),AE7*DATI!$Y$113,IF(AND($Q$4="INCASSO INCLINATA MEC 4"),AE7*DATI!$Y$114,IF(AND($Q$4="JL COB ESTERNA"),AE7*DATI!$Y$115,IF(AND($Q$4="JL COB INCASSO"),AE7*DATI!$Y$115,""))))))) | AN14: =IF(OR(AL7="",AL14="NO",AL14=""),"",IF(OR($Q$4="SPORGENTE DRITTA MEC 1 profilo GRIGIO",$Q$4="SPORGENTE INCLINATA MEC 3 profilo GRIGIO"),AL7*DATI!$Z$112,IF(OR($Q$4="SPORGENTE DRITTA MEC 1 profilo NERO",$Q$4="SPORGENTE INCLINATA MEC 3 profilo NERO"),AL7*DATI!$Z$112,IF(AND($Q$4="INCASSO DRITTA MEC 2"),AL7*DATI!$Z$113,IF(AND($Q$4="INCASSO INCLINATA MEC 4"),AL7*DATI!$Z$114,IF(AND($Q$4="JL COB ESTERNA"),AL7*DATI!$Z$115,IF(AND($Q$4="JL COB INCASSO"),AL7*DATI!$Z$115,"")))))))
B15: consumo WATT cad. e TOTALE : | J15: =IF(AND($Q$4="INCASSO INCLINATA RIFT",J7<>""),SUM(J13*9/1000),IF(AND($Q$4="JL COB incasso",J7<>""),SUM(J13*10/1000),IF(AND($Q$4="JL COB esterna",J7<>""),SUM(J13*10/1000),IF(AND($Q$4="INCASSO DRITTA LINIE",J7<>""),SUM(J13*9/1000),IF(AND(J7<>""),SUM(J13*11.8/1000),""))))) | M15: =IF(J15<>"",SUM(J15*J7),"") | Q15: =IF(AND($Q$4="INCASSO INCLINATA RIFT",Q7<>""),SUM(Q13*9/1000),IF(AND($Q$4="JL COB incasso",Q7<>""),SUM(Q13*10/1000),IF(AND($Q$4="JL COB esterna",Q7<>""),SUM(Q13*10/1000),IF(AND($Q$4="INCASSO DRITTA LINIE",Q7<>""),SUM(Q13*9/1000),IF(AND(Q7<>""),SUM(Q13*11.8/1000),""))))) | T15: =IF(Q15<>"",SUM(Q15*Q7),"") | X15: =IF(AND($Q$4="INCASSO INCLINATA RIFT",X7<>""),SUM(X13*9/1000),IF(AND($Q$4="JL COB incasso",X7<>""),SUM(X13*10/1000),IF(AND($Q$4="JL COB esterna",X7<>""),SUM(X13*10/1000),IF(AND($Q$4="INCASSO DRITTA LINIE",X7<>""),SUM(X13*9/1000),IF(AND(X7<>""),SUM(X13*11.8/1000),""))))) | AA15: =IF(X15<>"",SUM(X15*X7),"") | AE15: =IF(AND($Q$4="INCASSO INCLINATA RIFT",AE7<>""),SUM(AE13*9/1000),IF(AND($Q$4="JL COB incasso",AE7<>""),SUM(AE13*10/1000),IF(AND($Q$4="JL COB esterna",AE7<>""),SUM(AE13*10/1000),IF(AND($Q$4="INCASSO DRITTA LINIE",AE7<>""),SUM(AE13*9/1000),IF(AND(AE7<>""),SUM(AE13*11.8/1000),""))))) | AH15: =IF(AE15<>"",SUM(AE15*AE7),"") | AL15: =IF(AND($Q$4="INCASSO INCLINATA RIFT",AL7<>""),SUM(AL13*9/1000),IF(AND($Q$4="JL COB incasso",AL7<>""),SUM(AL13*10/1000),IF(AND($Q$4="JL COB esterna",AL7<>""),SUM(AL13*10/1000),IF(AND($Q$4="INCASSO DRITTA LINIE",AL7<>""),SUM(AL13*9/1000),IF(AND(AL7<>""),SUM(AL13*11.8/1000),""))))) | AO15: =IF(AL15<>"",SUM(AL15*AL7),"")
B16: WATTAGGIO tot. | G16: =SUM(M15,T15,AA15,AH15,AO15) -> 0
B18: ALIMENTATORI : | G18: N° pz
B20: =IF($Q$4="","",IF(OR(AND($BK$5=0,$E$26="SENSORE IR ESTERNO"),AND($BK$5=0,$T$26="SENSORE IR ESTERNO"),AND($BK$5=0,$AJ$26="SENSORE IR ESTERNO")),"48 w",IF($Q$4="JL COB esterna","60 w",IF($Q$4="JL COB incasso","60 w",IF(OR($Q$4="INCASSO DRITTA LINIE",$Q$4="INCASSO INCLINATA RIFT"),"36 w","18 w")))))
B22: =IF($Q$4="","",IF(OR(AND($BK$5=0,$E$26="SENSORE IR ESTERNO"),AND($BK$5=0,$T$26="SENSORE IR ESTERNO"),AND($BK$5=0,$AJ$26="SENSORE IR ESTERNO")),"90 w",IF($Q$4="JL COB esterna","100 w",IF($Q$4="JL COB incasso","100 w",IF(OR($Q$4="INCASSO DRITTA LINIE",$Q$4="INCASSO INCLINATA RIFT"),"60 w","48 w")))))
B24: =IF($Q$4="","",IF($Q$4="JL COB esterna","",IF($Q$4="JL COB incasso","",IF(OR($Q$4="INCASSO DRITTA LINIE",$Q$4="INCASSO INCLINATA RIFT"),"","90 w"))))
B26: ACCESSORI : | O26: N° | AE26: =IF($Q$26<>"","N°","") | AT26: =IF($AG$26<>"","N°","")
B55: =IF($A$123<>0,"DARE N°","") | E55: =IF($A$123<>0,$A$123,"") | F55: =IF($A$123<>0,"DISTRIBUTORE LINIED","") | R55: =IF($A$123<>0,"DARE N°","") | V55: =IF($A$123<>0,$A$123,"") | X55: =IF($A$123<>0,"PROLUNGA MECREELPP","")
C56: NOTE :
B59: RAGIONE SOCIALE : | G59: =P2 -> 0
B60: CITTA' : | D60: =AH2 -> 0 | R60: DATA : | U60: =IF(AT2<>"",AT2,"")
B61: =J4 -> LAMPADA : | E61: =Q4 -> 0 | O61: PREZZI PIENI
G62: N° PZ | H62: € cad. | O62: LAMPADE V.10
B63: MISURA | D63: =IF($M$12<>"",$M$12,$J$11)&" mm" -> mm | G63: =$J$7 -> 0 | H63: =IF(G63>0,IF($E$61="INCASSO INCLINATA RIFT",DATI!$E$105*2,IF($E$61="INCASSO DRITTA LINIE",DATI!$E$117*2,IF(G63>0,IF($E$61="SPORGENTE DRITTA MEC 1 profilo GRIGIO",DATI!$E$18*2,IF(G63>0,IF($E$61="SPORGENTE DRITTA MEC 1 profilo NERO",DATI!$E$18*2,IF($E$61="INCASSO DRITTA MEC 2",DATI!$E$41*2,IF($E$61="SPORGENTE INCLINATA MEC 3 profilo GRIGIO",DATI!$E$64*2,IF($E$61="SPORGENTE INCLINATA MEC 3 profilo NERO",DATI!$E$64*2,IF($E$61="INCASSO INCLINATA MEC 4",DATI!$E$87*2,IF($E$61="JL COB esterna",DATI!$E$134*2,IF($E$61="JL COB incasso",DATI!$E$150*2))))))),""))))),"")
B64: LUCE | D64: =J8 -> 0
B65: SUPPORTI | D65: =J14 -> 0
B66: CON | C66: =J10 -> 0
B68: MISURA | D68: =IF($T$12<>"",$T$12,$Q$11)&" mm" -> mm | G68: =$Q$7 -> 0 | H68: =IF(G68>0,IF($E$61="INCASSO INCLINATA RIFT",DATI!$G$105*2,IF($E$61="INCASSO DRITTA LINIE",DATI!$G$117*2,IF(G68>0,IF($E$61="SPORGENTE DRITTA MEC 1 profilo GRIGIO",DATI!$G$18*2,IF(G68>0,IF($E$61="SPORGENTE DRITTA MEC 1 profilo NERO",DATI!$G$18*2,IF($E$61="INCASSO DRITTA MEC 2",DATI!$G$41*2,IF($E$61="SPORGENTE INCLINATA MEC 3 profilo GRIGIO",DATI!$G$64*2,IF($E$61="SPORGENTE INCLINATA MEC 3 profilo NERO",DATI!$G$64*2,IF($E$61="INCASSO INCLINATA MEC 4",DATI!$G$87*2,IF($E$61="JL COB esterna",DATI!$G$134*2,IF($E$61="JL COB incasso",DATI!$G$150*2))))))),""))))),"")
B69: LUCE | D69: =Q8 -> 0
B70: SUPPORTI | D70: =Q14 -> 0
B71: CON | C71: =Q10 -> 0
B73: MISURA | D73: =IF($AA$12<>"",$AA$12,$X$11)&" mm" -> mm | G73: =$X$7 -> 0 | H73: =IF(G73>0,IF($E$61="INCASSO INCLINATA RIFT",DATI!$I$105*2,IF($E$61="INCASSO DRITTA LINIE",DATI!$I$117*2,IF(G73>0,IF($E$61="SPORGENTE DRITTA MEC 1 profilo GRIGIO",DATI!$I$18*2,IF(G73>0,IF($E$61="SPORGENTE DRITTA MEC 1 profilo NERO",DATI!$I$18*2,IF($E$61="INCASSO DRITTA MEC 2",DATI!$I$41*2,IF($E$61="SPORGENTE INCLINATA MEC 3 profilo GRIGIO",DATI!$I$64*2,IF($E$61="SPORGENTE INCLINATA MEC 3 profilo NERO",DATI!$I$64*2,IF($E$61="INCASSO INCLINATA MEC 4",DATI!$I$87*2,IF($E$61="JL COB esterna",DATI!$I$134*2,IF($E$61="JL COB incasso",DATI!$I$150*2))))))),""))))),"")
B74: LUCE | D74: =X8 -> 0
B75: SUPPORTI | D75: =X14 -> 0
B76: CON | C76: =X10 -> 0
B78: MISURA | D78: =IF($AI$12<>"",$AI$12,$AE$11)&" mm" -> mm | G78: =$AE$7 -> 0 | H78: =IF(G78>0,IF($E$61="INCASSO INCLINATA RIFT",DATI!$K$105*2,IF($E$61="INCASSO DRITTA LINIE",DATI!$K$117*2,IF(G78>0,IF($E$61="SPORGENTE DRITTA MEC 1 profilo GRIGIO",DATI!$K$18*2,IF(G78>0,IF($E$61="SPORGENTE DRITTA MEC 1 profilo NERO",DATI!$K$18*2,IF($E$61="INCASSO DRITTA MEC 2",DATI!$K$41*2,IF($E$61="SPORGENTE INCLINATA MEC 3 profilo GRIGIO",DATI!$K$64*2,IF($E$61="SPORGENTE INCLINATA MEC 3 profilo NERO",DATI!$K$64*2,IF($E$61="INCASSO INCLINATA MEC 4",DATI!$K$87*2,IF($E$61="JL COB esterna",DATI!$K$134*2,IF($E$61="JL COB incasso",DATI!$K$150*2))))))),""))))),"")
B79: LUCE | D79: =AE8 -> 0
B80: SUPPORTI | D80: =AE14 -> 0
B81: CON | C81: =AE10 -> 0
B83: MISURA | D83: =IF($AO$12<>"",$AO$12,$AL$11)&" mm" -> mm | G83: =$AL$7 -> 0 | H83: =IF(G83>0,IF($E$61="INCASSO INCLINATA RIFT",DATI!$M$105*2,IF($E$61="INCASSO DRITTA LINIE",DATI!$M$117*2,IF(G83>0,IF($E$61="SPORGENTE DRITTA MEC 1 profilo GRIGIO",DATI!$M$18*2,IF(G83>0,IF($E$61="SPORGENTE DRITTA MEC 1 profilo NERO",DATI!$M$18*2,IF($E$61="INCASSO DRITTA MEC 2",DATI!$M$41*2,IF($E$61="SPORGENTE INCLINATA MEC 3 profilo GRIGIO",DATI!$M$64*2,IF($E$61="SPORGENTE INCLINATA MEC 3 profilo NERO",DATI!$M$64*2,IF($E$61="INCASSO INCLINATA MEC 4",DATI!$M$87*2,IF($E$61="JL COB esterna",DATI!$M$134*2,IF($E$61="JL COB incasso",DATI!$M$150*2))))))),""))))),"")
B84: LUCE | D84: =AL8 -> 0
B85: SUPPORTI | D85: =AL14 -> 0
B86: CON | C86: =AL10 -> 0
C88: =IF(SUM($G$20:$H$25)>0,"N° PZ","") | J88: € cad.
C89: =IF(AND($B$20="60 W",$G$20<>""),"JLALI60",IF(AND($B$20="18 W",$G$20<>""),"ALIDRIVER18",IF(AND($B$20="36 W",$G$20<>""),"LINIEAL36",IF(AND($B$20="48 W",$G$20<>""),"ALIDRIVER48","")))) | H89: =IF($G$20<>"",$G$20,"") | J89: =IF($C$89<>"",INDEX(DATI!$D$156:$D$171,MATCH($C$89,DATI!$A$156:$A$171,0))*2,"")
C90: =IF(AND($B$22="100 W",$G$22<>""),"JLALI100",IF(AND($B$22="48 W",$G$22<>""),"ALIDRIVER48",IF(AND($B$22="60 W",$G$22<>""),"LINIEAL60",IF(AND($B$22="90 W",$G$22<>""),"ALIDRIVER90","")))) | H90: =IF($G$22<>"",$G$22,"") | J90: =IF($C$90<>"",INDEX(DATI!$D$156:$D$171,MATCH($C$90,DATI!$A$156:$A$171,0))*2,"")
C91: =IF(AND($B$24="90 W",$G$24<>""),"ALIDRIVER90","") | H91: =IF($G$24<>"",$G$24,"") | J91: =IF($C$91<>"",INDEX(DATI!$D$156:$D$171,MATCH($C$91,DATI!$A$156:$A$171,0))*2,"")
B93: =IF(OR($C$89="ALIDRIVER18",$C$90="ALIDRIVER48",$C$91="ALIDRIVER90"),"MECDRIVERD24","") | H93: =IF($B$93<>"",SUM(H89:I91),"") | J93: =IF($B$93<>"",INDEX(DATI!$D$156:$D$169,MATCH($B$93,DATI!$A$156:$A$169,0))*2,"")
B94: =INDEX(DATI!$T$160:$T$175,MATCH($E$26,DATI!$U$160:$U$175,0)) -> #N/A | H94: =IF($Q$26<>"",$Q$26,"") | J94: =IF($B$94<>"",INDEX(DATI!$S$160:$S$175,MATCH($B$94,DATI!$T$160:$T$175,0))*2,"") -> #N/A
B95: =INDEX(DATI!$T$160:$T$175,MATCH($T$26,DATI!$U$160:$U$175,0)) -> #N/A | H95: =IF($AG$26<>"",$AG$26,"") | J95: =IF($B$95<>"",INDEX(DATI!$S$160:$S$175,MATCH($B$95,DATI!$T$160:$T$175,0))*2,"") -> #N/A
B96: =INDEX(DATI!$T$160:$T$175,MATCH($AJ$26,DATI!$U$160:$U$175,0)) -> #N/A | H96: =IF($AU$26<>"",$AU$26,"") | J96: =IF($B$96<>"",INDEX(DATI!$S$160:$S$175,MATCH($B$96,DATI!$T$160:$T$175,0))*2,"") -> #N/A
B97: =IF($F$55<>"","LINIED","") | H97: =IF($F$55<>"",$E$55,"") | J97: =IF($F$55<>"",(3.45*$H$97),"")
B98: =IF($F$55<>"","MECREELPP","") | H98: =IF($F$55<>"",$E$55,"") | J98: =IF($F$55<>"",(2.13*$H$97),"")
A123: =SUM(B123:B125) -> 0 | B123: =IF($E$26="SENSORE IR DOPPIO DA INCASSO",$Q$26,"")
B124: =IF($T$26="SENSORE IR DOPPIO DA INCASSO",$AG$26,"")
B125: =IF($AJ$26="SENSORE IR DOPPIO DA INCASSO",$AU$26,"")

Sheet KENDO CAVO
A2: LAMPADA INCASSO DRITTA KENDO CAVO
A3: QUANTITA | D3: A | H3: QUANTITA | K3: D
A4: TIPOLOGIA LUCE | H4: TIPOLOGIA LUCE
A5: TIPOLOGIA ACCENSIONE | D5: ALIMENTAZIONE CON CAVO | H5: TIPOLOGIA ACCENSIONE | K5: ALIMENTAZIONE CON CAVO
A6: LUNGHEZZA LAMPADA FINITA | H6: LUNGHEZZA LAMPADA FINITA
A7: LUNGHEZZA SCHERMO | D7: (LAMPADA FINITA) | F7: =F6 -> 0 | H7: LUNGHEZZA SCHERMO | K7: (LAMPADA FINITA) | M7: =M6 -> 0
A8: LUNGHEZZA PROFILO | D8: (-14) | F8: =F6-14 -> -14 | H8: LUNGHEZZA PROFILO | K8: (-14) | M8: =M6-14 -> -14
A9: QUANTITA | D9: B | H9: QUANTITA | K9: E
A10: TIPOLOGIA LUCE | H10: TIPOLOGIA LUCE
A11: TIPOLOGIA ACCENSIONE | D11: ALIMENTAZIONE CON CAVO | H11: TIPOLOGIA ACCENSIONE | K11: ALIMENTAZIONE CON CAVO
A12: LUNGHEZZA LAMPADA FINITA | H12: LUNGHEZZA LAMPADA FINITA
A13: LUNGHEZZA SCHERMO | D13: (LAMPADA FINITA) | F13: =F12 -> 0 | H13: LUNGHEZZA SCHERMO | K13: (LAMPADA FINITA) | M13: =M12 -> 0
A14: LUNGHEZZA PROFILO | D14: (-14) | F14: =F12-14 -> -14 | H14: LUNGHEZZA PROFILO | K14: (-14) | M14: =M12-14 -> -14
A15: QUANTITA | D15: C | H15: QUANTITA | K15: F
A16: TIPOLOGIA LUCE | H16: TIPOLOGIA LUCE
A17: TIPOLOGIA ACCENSIONE | D17: ALIMENTAZIONE CON CAVO | H17: TIPOLOGIA ACCENSIONE | K17: ALIMENTAZIONE CON CAVO
A18: LUNGHEZZA LAMPADA FINITA | H18: LUNGHEZZA LAMPADA FINITA
A19: LUNGHEZZA SCHERMO | D19: (LAMPADA FINITA) | F19: =F18 -> 0 | H19: LUNGHEZZA SCHERMO | K19: (LAMPADA FINITA) | M19: =M18 -> 0
A20: LUNGHEZZA PROFILO | D20: (-14) | F20: =F18-14 -> -14 | H20: LUNGHEZZA PROFILO | K20: (-14) | M20: =M18-14 -> -14
A21: ALIMENTATORE 18W | I21: MOLLE FISSAGGIO (6XMTL) | L21: A | M21: B | N21: C
A22: ALIMENTATORE 48W | F22: 24 VOLT | L22: D | M22: E | N22: F
A23: ALIMENTATORE 90W
F24: NOTE:
F26: CONSEGNA:

Sheet IMMAGINI
B1: CAVO GIUNZIONE TRA LED 100mm
B2: TOUCH DA INCASSO | K2: INCASSO INCLINATA RIFT | S2: 2
B3: SENSORE IR DOPPIO DA INCASSO | K3: INCASSO DRITTA LINIE | S3: 2
B4: COMANDO VOICE | K4: . | S4: 1
B5: SENSORE IR SINGOLO DA INCASSO | S5: 1
B6: SENSORE PIR INCASSO | K6: SPORGENTE DRITTA MEC 1 | N6: =INDEX(IMMAGINI!$L$3:$L$11,MATCH(MODULO!$Q$4,IMMAGINI!$K$3:$K$11,0)) -> #N/A | S6: 3
B7: SENSORE IR ESTERNO | K7: INCASSO DRITTA MEC 2 | S7: 3
B8: TOUCH DIMMER ESTERNO | K8: SPORGENTE INCLINATA MEC 3 | S8: 3
B9: SENSORE PIR ESTERNO | K9: INCASSO INCLINATA MEC 4 | S9: 3
B10: TELECOMANDO RADIO SWITCH | K10: JL COB incasso | S10: 3
B11: SWITCH DIMMER | K11: JL COB esterna
B12: KINETIC SWITCH DIMMER
B14: SENSORE IR INCASSO LUCE SOFFUSA
B15: CAVO
B16: TOUCH INTEGRATO
B17: PIR INTEGRATO
B18: IR INTEGRATO

Sheet DATI
A1: MEC 1 (esterna) | B1: prezzo con +20% | D1: n° | E1: A | F1: n° | G1: B | H1: n° | I1: C | J1: n° | K1: D | L1: n° | M1: E | O1: F
A2: Misura lampada | D2: =MODULO!$J$7 -> 0 | E2: =MODULO!$J$11 -> 0 | F2: =MODULO!$Q$7 -> 0 | G2: =MODULO!$Q$11 -> 0 | H2: =MODULO!$X$7 -> 0 | I2: =MODULO!$X$11 -> 0 | J2: =MODULO!$AE$7 -> 0 | K2: =MODULO!$AE$11 -> 0 | L2: =MODULO!$AL$7 -> 0 | M2: =MODULO!$AL$11 -> 0
A4: Montaggio | B4: 10 | E4: =$B$4 -> 10 | G4: =$B$4 -> 10 | I4: =$B$4 -> 10 | K4: =$B$4 -> 10 | M4: =$B$4 -> 10 | O4: =$B$4 -> 10
A5: Profilo | B5: 19.83 | E5: =$B$5/4300*$E$2 -> 0 | G5: =$B$5/4300*$G$2 -> 0 | I5: =$B$5/4300*I$2 -> 0 | K5: =$B$5/4300*K2 -> 0 | M5: =$B$5/4300*M$2 -> 0 | O5: =$B$5/4300*O2 -> 0
A6: Schermo | B6: 8.63 | E6: =$B$6/3000*$E$2 -> 0 | G6: =$B$6/3000*$G$2 -> 0 | I6: =$B$6/3000*I$2 -> 0 | K6: =$B$6/3000*K2 -> 0 | M6: =$B$6/3000*M$2 -> 0 | O6: =$B$6/3000*O2 -> 0
A7: Tappi | B7: 4.27 | E7: =IF(MODULO!$J$9="SI",$B$7,0) -> 0 | G7: =IF(MODULO!$Q$9="SI",$B$7,0) -> 0 | I7: =IF(MODULO!$X$9="SI",$B$7,0) -> 0 | K7: =IF(MODULO!$AE$9="SI",$B$7,0) -> 0 | M7: =IF(MODULO!$AL$9="SI",$B$7,0) -> 0 | O7: =$B$7 -> 4.27
D8: Quantità: | F8: Quantità: | H8: Quantità: | J8: Quantità: | L8: Quantità: | N8: Quantità:
A9: Cavo 3 mt | B9: 1.65 | D9: =IF(MODULO!$J$10="CAVO",1,0) -> 0 | E9: =$B$9*$D$9 -> 0 | F9: =IF(MODULO!$Q$10="CAVO",1,0) -> 0 | G9: =B9*F9 -> 0 | H9: =IF(MODULO!$X$10="CAVO",1,0) -> 0 | I9: =H9*$B$9 -> 0 | J9: =IF(MODULO!$AE$10="CAVO",1,0) -> 0 | K9: =$B$9*J9 -> 0 | L9: =IF(MODULO!$AL$10="CAVO",1,0) -> 0 | M9: =L9*$B$9 -> 0 | O9: =$B$9*N9 -> 0
A10: Supporto (2x mt) | B10: 1.17 | D10: =IF(MODULO!$L$14<>"",MODULO!$L$14/D2,0) -> 0 | E10: =$B$10*$D$10 -> 0 | F10: =IF(MODULO!$S$14<>"",MODULO!$S$14/F2,0) -> 0 | G10: =B10*F10 -> 0 | H10: =IF(MODULO!$Z$14<>"",MODULO!$Z$14/H2,0) -> 0 | I10: =H10*$B$10 -> 0 | J10: =IF(MODULO!$AG$14<>"",MODULO!$AG$14/J2,0) -> 0 | K10: =$B$10*J10 -> 0 | L10: =IF(MODULO!$AN$14<>"",MODULO!$AN$14/L2,0) -> 0 | M10: =L10*$B$10 -> 0 | O10: =$B$10*N10 -> 0
A11: Touch | B11: 9.78 | D11: =IF(MODULO!$J$10="TOUCH INTEGRATO",1,0) -> 0 | E11: =$B$11*$D$11 -> 0 | F11: =IF(MODULO!$Q$10="TOUCH INTEGRATO",1,0) -> 0 | G11: =B11*F11 -> 0 | H11: =IF(MODULO!$X$10="TOUCH INTEGRATO",1,0) -> 0 | I11: =H11*$B$11 -> 0 | J11: =IF(MODULO!$AE$10="TOUCH INTEGRATO",1,0) -> 0 | K11: =$B$11*J11 -> 0 | L11: =IF(MODULO!$AL$10="TOUCH INTEGRATO",1,0) -> 0 | M11: =L11*$B$11 -> 0 | O11: =$B$11*N11 -> 0
A12: Touch IR | B12: 11.97 | D12: =IF(MODULO!$J$10="IR INTEGRATO",1,0) -> 0 | E12: =$B$12*$D$12 -> 0 | F12: =IF(MODULO!$Q$10="IR INTEGRATO",1,0) -> 0 | G12: =B12*F12 -> 0 | H12: =IF(MODULO!$X$10="IR INTEGRATO",1,0) -> 0 | I12: =H12*$B$12 -> 0 | J12: =IF(MODULO!$AE$10="IR INTEGRATO",1,0) -> 0 | K12: =$B$12*J12 -> 0 | L12: =IF(MODULO!$AL$10="IR INTEGRATO",1,0) -> 0 | M12: =L12*$B$12 -> 0 | O12: =$B$12*N12 -> 0
A13: Sensore PIR | B13: 32.03 | D13: =IF(MODULO!$J$10="PIR INTEGRATO",1,0) -> 0 | E13: =$B$13*$D$13 -> 0 | F13: =IF(MODULO!$Q$10="PIR INTEGRATO",1,0) -> 0 | G13: =B13*F13 -> 0 | H13: =IF(MODULO!$X$10="PIR INTEGRATO",1,0) -> 0 | I13: =H13*$B$13 -> 0 | J13: =IF(MODULO!$AE$10="PIR INTEGRATO",1,0) -> 0 | K13: =$B$13*J13 -> 0 | L13: =IF(MODULO!$AL$10="PIR INTEGRATO",1,0) -> 0 | M13: =L13*$B$13 -> 0 | O13: =$B$13*N13 -> 0
E15: COSTO TOTALE LAMPADA
A16: 72 Led/metro | B16: 48.75 | E16: =(B16/5000*E2)+SUM(E4:E13) -> 10 | G16: =(B16/5000*G2)+SUM(G4:G13) -> 10 | I16: =($B$16/5000*I2)+SUM(I4:I13) -> 10 | K16: =($B$16/5000*K2)+SUM(K4:K13) -> 10 | M16: =($B$16/5000*M2)+SUM(M4:M13) -> 10 | O16: =($B$16/5000*O2)+SUM(O4:O13) -> 14.27
A17: Watt | B17: 7.8 | E17: =B17/1000*E2 -> 0 | G17: =B17/1000*G2 -> 0 | I17: =$B$17/1000*I2 -> 0 | K17: =$B$17/1000*K2 -> 0 | M17: =$B$17/1000*M2 -> 0 | O17: =$B$17/1000*O2 -> 0
A18: 108 Led/metro | B18: 71.68 | E18: =(B18/5000*E2)+SUM(E4:E13) -> 10 | G18: =(B18/5000*G2)+SUM(G4:G13) -> 10 | I18: =($B$18/5000*I2)+SUM(I4:I13) -> 10 | K18: =($B$18/5000*K2)+SUM(K4:K13) -> 10 | M18: =($B$18/5000*M2)+SUM(M4:M13) -> 10 | O18: =($B$18/5000*O2)+SUM(O4:O13) -> 14.27
A19: Watt | B19: 11.8 | E19: =B19/1000*E2 -> 0 | G19: =B19/1000*G2 -> 0 | I19: =$B$19/1000*I2 -> 0 | K19: =$B$19/1000*K2 -> 0 | M19: =$B$19/1000*M2 -> 0 | O19: =$B$19/1000*O2 -> 0
A20: 156 Led/metro | B20: 84.8 | E20: =(B20/5000*E2)+SUM(E4:E13) -> 10 | G20: =(B20/5000*G2)+SUM(G4:G13) -> 10 | I20: =($B$20/5000*I2)+SUM(I4:I13) -> 10 | K20: =($B$20/5000*K2)+SUM(K4:K13) -> 10 | M20: =($B$20/5000*M2)+SUM(M4:M13) -> 10 | O20: =($B$20/5000*O2)+SUM(O4:O13) -> 14.27
A21: Watt | B21: 16.9 | E21: =B21/1000*E2 -> 0 | G21: =B21/1000*G2 -> 0 | I21: =$B$21/1000*I2 -> 0 | K21: =$B$21/1000*K2 -> 0 | M21: =$B$21/1000*M2 -> 0 | O21: =$B$21/1000*O2 -> 0
A24: MEC 2 (incassata) | D24: n° | E24: A | F24: n° | G24: B | H24: n° | I24: C | J24: n° | K24: D | L24: n° | M24: E | O24: F
A25: Misura lampada | D25: =MODULO!$J$7 -> 0 | E25: =MODULO!$J$11 -> 0 | F25: =MODULO!$Q$7 -> 0 | G25: =MODULO!$Q$11 -> 0 | H25: =MODULO!$X$7 -> 0 | I25: =MODULO!$X$11 -> 0 | J25: =MODULO!$AE$7 -> 0 | K25: =MODULO!$AE$11 -> 0 | L25: =MODULO!$AL$7 -> 0 | M25: =MODULO!$AL$11 -> 0
A28: Montaggio | B28: 10 | E28: =B28 -> 10 | G28: =B28 -> 10 | I28: =$B$28 -> 10 | K28: =$B$28 -> 10 | M28: =$B$28 -> 10 | O28: =$B$28 -> 10
A29: Profilo | B29: 19.83 | E29: =B29/4300*E25 -> 0 | G29: =B29/4300*G25 -> 0 | I29: =$B$29/4300*I25 -> 0 | K29: =$B$29/4300*K25 -> 0 | M29: =$B$29/4300*M25 -> 0 | O29: =$B$29/4300*O25 -> 0
A30: Schermo | B30: 12.34 | E30: =B30/3000*E25 -> 0 | G30: =B30/3000*G25 -> 0 | I30: =$B$30/3000*I25 -> 0 | K30: =$B$30/3000*K25 -> 0 | M30: =$B$30/3000*M25 -> 0 | O30: =$B$30/3000*O25 -> 0
D31: Quantità: | F31: Quantità: | H31: Quantità: | J31: Quantità: | L31: Quantità: | N31: Quantità:
A32: Cavo 3 mt | B32: 1.65 | D32: =IF(MODULO!$J$10="CAVO",1,0) -> 0 | E32: =B32*D32 -> 0 | F32: =IF(MODULO!$Q$10="CAVO",1,0) -> 0 | G32: =B32*F32 -> 0 | H32: =IF(MODULO!$X$10="CAVO",1,0) -> 0 | I32: =H32*$B$32 -> 0 | J32: =IF(MODULO!$AE$10="CAVO",1,0) -> 0 | K32: =$B$32*J32 -> 0 | L32: =IF(MODULO!$AL$10="CAVO",1,0) -> 0 | M32: =L32*$B$32 -> 0 | O32: =$B$32*N32 -> 0
A33: Supporto (1x mt-cf.3pz) | B33: 2.36 | D33: =IF(MODULO!$L$14<>"",MODULO!$L$14/D25,0) -> 0 | E33: =B33*D33 -> 0 | F33: =IF(MODULO!$S$14<>"",MODULO!$S$14/F25,0) -> 0 | G33: =B33*F33 -> 0 | H33: =IF(MODULO!$Z$14<>"",MODULO!$Z$14/H25,0) -> 0 | I33: =H33*$B$33 -> 0 | J33: =IF(MODULO!$AG$14<>"",MODULO!$AG$14/J25,0) -> 0 | K33: =$B$33*J33 -> 0 | L33: =IF(MODULO!$AN$14<>"",MODULO!$AN$14/L25,0) -> 0 | M33: =L33*$B$33 -> 0 | O33: =$B$33*N33 -> 0
A34: Touch | B34: 9.78 | D34: =IF(MODULO!$J$10="TOUCH INTEGRATO",1,0) -> 0 | E34: =B34*D34 -> 0 | F34: =IF(MODULO!$Q$10="TOUCH INTEGRATO",1,0) -> 0 | G34: =B34*F34 -> 0 | H34: =IF(MODULO!$X$10="TOUCH INTEGRATO",1,0) -> 0 | I34: =H34*$B$34 -> 0 | J34: =IF(MODULO!$AE$10="TOUCH INTEGRATO",1,0) -> 0 | K34: =$B$34*J34 -> 0 | L34: =IF(MODULO!$AL$10="TOUCH INTEGRATO",1,0) -> 0 | M34: =L34*$B$34 -> 0 | O34: =$B$34*N34 -> 0
A35: Touch IR | B35: 11.97 | D35: =IF(MODULO!$J$10="IR INTEGRATO",1,0) -> 0 | E35: =B35*D35 -> 0 | F35: =IF(MODULO!$Q$10="IR INTEGRATO",1,0) -> 0 | G35: =B35*F35 -> 0 | H35: =IF(MODULO!$X$10="IR INTEGRATO",1,0) -> 0 | I35: =H35*$B$35 -> 0 | J35: =IF(MODULO!$AE$10="IR INTEGRATO",1,0) -> 0 | K35: =$B$35*J35 -> 0 | L35: =IF(MODULO!$AL$10="IR INTEGRATO",1,0) -> 0 | M35: =L35*$B$35 -> 0 | O35: =$B$35*N35 -> 0
A36: Sensore PIR | B36: 32.03 | D36: =IF(MODULO!$J$10="PIR INTEGRATO",1,0) -> 0 | E36: =B36*D36 -> 0 | F36: =IF(MODULO!$Q$10="PIR INTEGRATO",1,0) -> 0 | G36: =B36*F36 -> 0 | H36: =IF(MODULO!$X$10="PIR INTEGRATO",1,0) -> 0 | I36: =H36*$B$36 -> 0 | J36: =IF(MODULO!$AE$10="PIR INTEGRATO",1,0) -> 0 | K36: =$B$36*J36 -> 0 | L36: =IF(MODULO!$AL$10="PIR INTEGRATO",1,0) -> 0 | M36: =L36*$B$36 -> 0 | O36: =$B$36*N36 -> 0
E38: COSTO TOTALE LAMPADA
A39: 72 Led/metro | B39: 48.75 | E39: =(B39/5000*E25)+SUM(E28:E36) -> 10 | G39: =(B39/5000*G25)+SUM(G28:G36) -> 10 | I39: =($B$39/5000*I25)+SUM(I28:I36) -> 10 | K39: =($B$39/5000*K25)+SUM(K28:K36) -> 10 | M39: =($B$39/5000*M25)+SUM(M28:M36) -> 10 | O39: =($B$39/5000*O25)+SUM(O28:O36) -> 10
A40: Watt | B40: 7.8 | E40: =B40/1000*E25 -> 0 | G40: =B40/1000*G25 -> 0 | I40: =$B$40/1000*I25 -> 0 | K40: =$B$40/1000*K25 -> 0 | M40: =$B$40/1000*M25 -> 0 | O40: =$B$40/1000*O25 -> 0
A41: 108 Led/metro | B41: 71.68 | E41: =(B41/5000*E25)+SUM(E28:E36) -> 10 | G41: =(B41/5000*G25)+SUM(G28:G36) -> 10 | I41: =($B$41/5000*I25)+SUM(I28:I36) -> 10 | K41: =($B$41/5000*K25)+SUM(K28:K36) -> 10 | M41: =($B$41/5000*M25)+SUM(M28:M36) -> 10 | O41: =($B$41/5000*O25)+SUM(O28:O36) -> 10
A42: Watt | B42: 11.8 | E42: =B42/1000*E25 -> 0 | G42: =B42/1000*G25 -> 0 | I42: =$B$42/1000*I25 -> 0 | K42: =$B$42/1000*K25 -> 0 | M42: =$B$42/1000*M25 -> 0 | O42: =$B$42/1000*O25 -> 0
A43: 156 Led/metro | B43: 84.8 | E43: =(B43/5000*E25)+SUM(E28:E36) -> 10 | G43: =(B43/5000*G25)+SUM(G28:G36) -> 10 | I43: =($B$43/5000*I25)+SUM(I28:I36) -> 10 | K43: =($B$43/5000*K25)+SUM(K28:K36) -> 10 | M43: =($B$43/5000*M25)+SUM(M28:M36) -> 10 | O43: =($B$43/5000*O25)+SUM(O28:O36) -> 10
A44: Watt | B44: 16.9 | E44: =B44/1000*E25 -> 0 | G44: =B44/1000*G25 -> 0 | I44: =$B$44/1000*I25 -> 0 | K44: =$B$44/1000*K25 -> 0 | M44: =$B$44/1000*M25 -> 0 | O44: =$B$44/1000*O25 -> 0
A47: MEC 3 (inclinata) | D47: n° | E47: A | F47: n° | G47: B | H47: n° | I47: C | J47: n° | K47: D | L47: n° | M47: E | O47: F
A48: Misura lampada | D48: =MODULO!$J$7 -> 0 | E48: =MODULO!$J$11 -> 0 | F48: =MODULO!$Q$7 -> 0 | G48: =MODULO!$Q$11 -> 0 | H48: =MODULO!$X$7 -> 0 | I48: =MODULO!$X$11 -> 0 | J48: =MODULO!$AE$7 -> 0 | K48: =MODULO!$AE$11 -> 0 | L48: =MODULO!$AL$7 -> 0 | M48: =MODULO!$AL$11 -> 0
A50: Montaggio | B50: 10 | E50: =B50 -> 10 | G50: =B50 -> 10 | I50: =$B$50 -> 10 | K50: =$B$50 -> 10 | M50: =$B$50 -> 10 | O50: =$B$50 -> 10
A51: Profilo | B51: 23.13 | E51: =B51/4300*E48 -> 0 | G51: =B51/4300*G48 -> 0 | I51: =$B$51/4300*I48 -> 0 | K51: =$B$51/4300*K48 -> 0 | M51: =$B$51/4300*M48 -> 0 | O51: =$B$51/4300*O48 -> 0
A52: Schermo | B52: 8.63 | E52: =B52/3000*E48 -> 0 | G52: =B52/3000*G48 -> 0 | I52: =$B$52/3000*I48 -> 0 | K52: =$B$52/3000*K48 -> 0 | M52: =$B$52/3000*M48 -> 0 | O52: =$B$52/3000*O48 -> 0
A53: Tappi | B53: 4.27 | E53: =IF(MODULO!$J$9="SI",$B$53,0) -> 0 | G53: =IF(MODULO!$Q$9="SI",$B$53,0) -> 0 | I53: =IF(MODULO!$X$9="SI",$B$53,0) -> 0 | K53: =IF(MODULO!$AE$9="SI",$B$53,0) -> 0 | M53: =IF(MODULO!$AL$9="SI",$B$53,0) -> 0 | O53: =$B$53 -> 4.27
D54: Quantità: | F54: Quantità: | H54: Quantità: | J54: Quantità: | L54: Quantità: | N54: Quantità:
A55: Cavo 3 mt | B55: 1.65 | D55: =IF(MODULO!$J$10="CAVO",1,0) -> 0 | E55: =B55*D55 -> 0 | F55: =IF(MODULO!$Q$10="CAVO",1,0) -> 0 | G55: =B55*F55 -> 0 | H55: =IF(MODULO!$X$10="CAVO",1,0) -> 0 | I55: =H55*$B$55 -> 0 | J55: =IF(MODULO!$AE$10="CAVO",1,0) -> 0 | K55: =$B$55*J55 -> 0 | L55: =IF(MODULO!$AL$10="CAVO",1,0) -> 0 | M55: =L55*$B$55 -> 0 | O55: =$B$55*N55 -> 0
A56: Supporto (2x mt) | B56: 1.17 | D56: =IF(MODULO!$L$14<>"",MODULO!$L$14/D48,0) -> 0 | E56: =B56*D56 -> 0 | F56: =IF(MODULO!$S$14<>"",MODULO!$S$14/F48,0) -> 0 | G56: =B56*F56 -> 0 | H56: =IF(MODULO!$Z$14<>"",MODULO!$Z$14/H48,0) -> 0 | I56: =H56*$B$56 -> 0 | J56: =IF(MODULO!$AG$14<>"",MODULO!$AG$14/J48,0) -> 0 | K56: =$B$56*J56 -> 0 | L56: =IF(MODULO!$AN$14<>"",MODULO!$AN$14/L48,0) -> 0 | M56: =L56*$B$56 -> 0 | O56: =$B$56*N56 -> 0
A57: Touch | B57: 9.78 | D57: =IF(MODULO!$J$10="TOUCH INTEGRATO",1,0) -> 0 | E57: =B57*D57 -> 0 | F57: =IF(MODULO!$Q$10="TOUCH INTEGRATO",1,0) -> 0 | G57: =B57*F57 -> 0 | H57: =IF(MODULO!$X$10="TOUCH INTEGRATO",1,0) -> 0 | I57: =H57*$B$57 -> 0 | J57: =IF(MODULO!$AE$10="TOUCH INTEGRATO",1,0) -> 0 | K57: =$B$57*J57 -> 0 | L57: =IF(MODULO!$AL$10="TOUCH INTEGRATO",1,0) -> 0 | M57: =L57*$B$57 -> 0 | O57: =$B$57*N57 -> 0
A58: Touch IR | B58: 11.97 | D58: =IF(MODULO!$J$10="IR INTEGRATO",1,0) -> 0 | E58: =B58*D58 -> 0 | F58: =IF(MODULO!$Q$10="IR INTEGRATO",1,0) -> 0 | G58: =B58*F58 -> 0 | H58: =IF(MODULO!$X$10="IR INTEGRATO",1,0) -> 0 | I58: =H58*$B$58 -> 0 | J58: =IF(MODULO!$AE$10="IR INTEGRATO",1,0) -> 0 | K58: =$B$58*J58 -> 0 | L58: =IF(MODULO!$AL$10="IR INTEGRATO",1,0) -> 0 | M58: =L58*$B$58 -> 0 | O58: =$B$58*N58 -> 0
A59: Sensore PIR | B59: 32.03 | D59: =IF(MODULO!$J$10="PIR INTEGRATO",1,0) -> 0 | E59: =B59*D59 -> 0 | F59: =IF(MODULO!$Q$10="PIR INTEGRATO",1,0) -> 0 | G59: =B59*F59 -> 0 | H59: =IF(MODULO!$X$10="PIR INTEGRATO",1,0) -> 0 | I59: =H59*$B$59 -> 0 | J59: =IF(MODULO!$AE$10="PIR INTEGRATO",1,0) -> 0 | K59: =$B$59*J59 -> 0 | L59: =IF(MODULO!$AL$10="PIR INTEGRATO",1,0) -> 0 | M59: =L59*$B$59 -> 0 | O59: =$B$59*N59 -> 0
E61: COSTO TOTALE LAMPADA
A62: 72 Led/metro | B62: 48.75 | E62: =(B62/5000*E48)+SUM(E50:E59) -> 10 | G62: =(B62/5000*G48)+SUM(G50:G59) -> 10 | I62: =($B$62/5000*I48)+SUM(I50:I59) -> 10 | K62: =($B$62/5000*K48)+SUM(K50:K59) -> 10 | M62: =($B$62/5000*M48)+SUM(M50:M59) -> 10 | O62: =($B$62/5000*O48)+SUM(O50:O59) -> 14.27
A63: Watt | B63: 7.8 | E63: =B63/1000*E48 -> 0 | G63: =B63/1000*G48 -> 0 | I63: =$B$63/1000*I48 -> 0 | K63: =$B$63/1000*K48 -> 0 | M63: =$B$63/1000*M48 -> 0 | O63: =$B$63/1000*O48 -> 0
A64: 108 Led/metro | B64: 71.68 | E64: =(B64/5000*E48)+SUM(E50:E59) -> 10 | G64: =(B64/5000*G48)+SUM(G50:G59) -> 10 | I64: =($B$64/5000*I48)+SUM(I50:I59) -> 10 | K64: =($B$64/5000*K48)+SUM(K50:K59) -> 10 | M64: =($B$64/5000*M48)+SUM(M50:M59) -> 10 | O64: =($B$64/5000*O48)+SUM(O50:O59) -> 14.27
A65: Watt | B65: 11.8 | E65: =B65/1000*E48 -> 0 | G65: =B65/1000*G48 -> 0 | I65: =$B$65/1000*I48 -> 0 | K65: =$B$65/1000*K48 -> 0 | M65: =$B$65/1000*M48 -> 0 | O65: =$B$65/1000*O48 -> 0
A66: 156 Led/metro | B66: 84.8 | E66: =(B66/5000*E48)+SUM(E50:E59) -> 10 | G66: =(B66/5000*G48)+SUM(G50:G59) -> 10 | I66: =($B$66/5000*I48)+SUM(I50:I59) -> 10 | K66: =($B$66/5000*K48)+SUM(K50:K59) -> 10 | M66: =($B$66/5000*M48)+SUM(M50:M59) -> 10 | O66: =($B$66/5000*O48)+SUM(O50:O59) -> 14.27
A67: Watt | B67: 16.9 | E67: =B67/1000*E48 -> 0 | G67: =B67/1000*G48 -> 0 | I67: =$B$67/1000*I48 -> 0 | K67: =$B$67/1000*K48 -> 0 | M67: =$B$67/1000*M48 -> 0 | O67: =$B$67/1000*O48 -> 0
A70: MEC 4 (incas. Incl.) | D70: n° | E70: A | F70: n° | G70: B | H70: n° | I70: C | J70: n° | K70: D | L70: n° | M70: E | O70: F
A71: Misura lampada | D71: =MODULO!$J$7 -> 0 | E71: =MODULO!$J$11 -> 0 | F71: =MODULO!$Q$7 -> 0 | G71: =MODULO!$Q$11 -> 0 | H71: =MODULO!$X$7 -> 0 | I71: =MODULO!$X$11 -> 0 | J71: =MODULO!$AE$7 -> 0 | K71: =MODULO!$AE$11 -> 0 | L71: =MODULO!$AL$7 -> 0 | M71: =MODULO!$AL$11 -> 0
A73: Montaggio | B73: 10 | E73: =B73 -> 10 | G73: =B73 -> 10 | I73: =$B$73 -> 10 | K73: =$B$73 -> 10 | M73: =$B$73 -> 10 | O73: =$B$73 -> 10
A74: Profilo | B74: 20.7 | E74: =B74/3000*E71 -> 0 | G74: =B74/3000*G71 -> 0 | I74: =$B$74/3000*I71 -> 0 | K74: =$B$74/3000*K71 -> 0 | M74: =$B$74/3000*M71 -> 0 | O74: =$B$74/3000*O71 -> 0
A75: Schermo | B75: 8.63 | E75: =B75/3000*E71 -> 0 | G75: =B75/3000*G71 -> 0 | I75: =$B$75/3000*I71 -> 0 | K75: =$B$75/3000*K71 -> 0 | M75: =$B$75/3000*M71 -> 0 | O75: =$B$75/3000*O71 -> 0
A76: Tappi | B76: 4.21 | E76: =IF(MODULO!$J$9="SI",$B$76,0) -> 0 | G76: =IF(MODULO!$Q$9="SI",$B$76,0) -> 0 | I76: =IF(MODULO!$X$9="SI",$B$76,0) -> 0 | K76: =IF(MODULO!$AE$9="SI",$B$76,0) -> 0 | M76: =IF(MODULO!$AL$9="SI",$B$76,0) -> 0 | O76: =$B$76 -> 4.21
D77: Quantità: | F77: Quantità: | H77: Quantità: | J77: Quantità: | L77: Quantità: | N77: Quantità:
A78: Cavo 3 mt | B78: 1.65 | D78: =IF(MODULO!$J$10="CAVO",1,0) -> 0 | E78: =B78*D78 -> 0 | F78: =IF(MODULO!$Q$10="CAVO",1,0) -> 0 | G78: =B78*F78 -> 0 | H78: =IF(MODULO!$X$10="CAVO",1,0) -> 0 | I78: =H78*$B$78 -> 0 | J78: =IF(MODULO!$AE$10="CAVO",1,0) -> 0 | K78: =$B$78*J78 -> 0 | L78: =IF(MODULO!$AL$10="CAVO",1,0) -> 0 | M78: =L78*$B$78 -> 0 | O78: =$B$78*N78 -> 0
A79: Supporto (3x mt) | B79: 0.8 | D79: =IF(MODULO!$L$14<>"",MODULO!$L$14/D71,0) -> 0 | E79: =B79*D79 -> 0 | F79: =IF(MODULO!$S$14<>"",MODULO!$S$14/F71,0) -> 0 | G79: =B79*F79 -> 0 | H79: =IF(MODULO!$Z$14<>"",MODULO!$Z$14/H71,0) -> 0 | I79: =H79*$B$79 -> 0 | J79: =IF(MODULO!$AG$14<>"",MODULO!$AG$14/J71,0) -> 0 | K79: =$B$79*J79 -> 0 | L79: =IF(MODULO!$AN$14<>"",MODULO!$AN$14/L71,0) -> 0 | M79: =L79*$B$79 -> 0 | O79: =$B$79*N79 -> 0
A80: Touch | B80: 9.78 | D80: =IF(MODULO!$J$10="TOUCH INTEGRATO",1,0) -> 0 | E80: =B80*D80 -> 0 | F80: =IF(MODULO!$Q$10="TOUCH INTEGRATO",1,0) -> 0 | G80: =B80*F80 -> 0 | H80: =IF(MODULO!$X$10="TOUCH INTEGRATO",1,0) -> 0 | I80: =H80*$B$80 -> 0 | J80: =IF(MODULO!$AE$10="TOUCH INTEGRATO",1,0) -> 0 | K80: =$B$80*J80 -> 0 | L80: =IF(MODULO!$AL$10="TOUCH INTEGRATO",1,0) -> 0 | M80: =L80*$B$80 -> 0 | O80: =$B$80*N80 -> 0
A81: Touch IR | B81: 11.97 | D81: =IF(MODULO!$J$10="IR INTEGRATO",1,0) -> 0 | E81: =B81*D81 -> 0 | F81: =IF(MODULO!$Q$10="IR INTEGRATO",1,0) -> 0 | G81: =B81*F81 -> 0 | H81: =IF(MODULO!$X$10="IR INTEGRATO",1,0) -> 0 | I81: =H81*$B$81 -> 0 | J81: =IF(MODULO!$AE$10="IR INTEGRATO",1,0) -> 0 | K81: =$B$81*J81 -> 0 | L81: =IF(MODULO!$AL$10="IR INTEGRATO",1,0) -> 0 | M81: =L81*$B$81 -> 0 | O81: =$B$81*N81 -> 0
A82: Sensore PIR | B82: 32.03 | D82: =IF(MODULO!$J$10="PIR INTEGRATO",1,0) -> 0 | E82: =B82*D82 -> 0 | F82: =IF(MODULO!$Q$10="PIR INTEGRATO",1,0) -> 0 | G82: =B82*F82 -> 0 | H82: =IF(MODULO!$X$10="PIR INTEGRATO",1,0) -> 0 | I82: =H82*$B$82 -> 0 | J82: =IF(MODULO!$AE$10="PIR INTEGRATO",1,0) -> 0 | K82: =$B$82*J82 -> 0 | L82: =IF(MODULO!$AL$10="PIR INTEGRATO",1,0) -> 0 | M82: =L82*$B$82 -> 0 | O82: =$B$82*N82 -> 0
E84: COSTO TOTALE LAMPADA
A85: 72 Led/metro | B85: 48.75 | E85: =(B85/5000*E71)+SUM(E73:E82) -> 10 | G85: =(B85/5000*G71)+SUM(G73:G82) -> 10 | I85: =($B$85/5000*I71)+SUM(I73:I82) -> 10 | K85: =($B$85/5000*K71)+SUM(K73:K82) -> 10 | M85: =($B$85/5000*M71)+SUM(M73:M82) -> 10 | O85: =($B$85/5000*O71)+SUM(O73:O82) -> 14.21
A86: Watt | B86: 7.8 | E86: =B86/1000*E71 -> 0 | G86: =B86/1000*G71 -> 0 | I86: =$B$86/1000*I71 -> 0 | K86: =$B$86/1000*K71 -> 0 | M86: =$B$86/1000*M71 -> 0 | O86: =$B$86/1000*O71 -> 0
A87: 108 Led/metro | B87: 71.68 | E87: =(B87/5000*E71)+SUM(E73:E82) -> 10 | G87: =(B87/5000*G71)+SUM(G73:G82) -> 10 | I87: =($B$87/5000*I71)+SUM(I73:I82) -> 10 | K87: =($B$87/5000*K71)+SUM(K73:K82) -> 10 | M87: =($B$87/5000*M71)+SUM(M73:M82) -> 10 | O87: =($B$87/5000*O71)+SUM(O73:O82) -> 14.21
A88: Watt | B88: 11.8 | E88: =B88/1000*E71 -> 0 | G88: =B88/1000*G71 -> 0 | I88: =$B$88/1000*I71 -> 0 | K88: =$B$88/1000*K71 -> 0 | M88: =$B$88/1000*M71 -> 0 | O88: =$B$88/1000*O71 -> 0
A89: 156 Led/metro | B89: 84.8 | E89: =(B89/5000*E71)+SUM(E73:E82) -> 10 | G89: =(B89/5000*G71)+SUM(G73:G82) -> 10 | I89: =($B$89/5000*I71)+SUM(I73:I82) -> 10 | K89: =($B$89/5000*K71)+SUM(K73:K82) -> 10 | M89: =($B$89/5000*M71)+SUM(M73:M82) -> 10 | O89: =($B$89/5000*O71)+SUM(O73:O82) -> 14.21
A90: Watt | B90: 16.9 | E90: =B90/1000*E71 -> 0 | G90: =B90/1000*G71 -> 0 | I90: =$B$90/1000*I71 -> 0 | K90: =$B$90/1000*K71 -> 0 | M90: =$B$90/1000*M71 -> 0 | O90: =$B$90/1000*O71 -> 0
A92: RIFT incasso inclinata | E92: A | G92: B | I92: C | K92: D | M92: E | O92: F
A93: Misura lampada | D93: =MODULO!$J$7 -> 0 | E93: =MODULO!$J$11 -> 0 | F93: =MODULO!$Q$7 -> 0 | G93: =MODULO!$Q$11 -> 0 | H93: =MODULO!$X$7 -> 0 | I93: =MODULO!$X$11 -> 0 | J93: =MODULO!$AE$7 -> 0 | K93: =MODULO!$AE$11 -> 0 | L93: =MODULO!$AL$7 -> 0 | M93: =MODULO!$AL$11 -> 0
A95: Montaggio | B95: 10 | E95: =B95 -> 10 | G95: =B95 -> 10 | I95: =$B$95 -> 10 | K95: =$B$95 -> 10 | M95: =$B$95 -> 10 | O95: =$B$95 -> 10
A96: Profilo con schermo | B96: 21 | E96: =$B$96/3300*E93 -> 0 | G96: =$B$96/3300*G93 -> 0 | I96: =$B$96/3300*I93 -> 0 | K96: =$B$96/3300*K93 -> 0 | M96: =$B$96/3300*M93 -> 0 | O96: =$B$96/3300*O93 -> 0
A97: Tappi | B97: 1.8 | E97: =IF(MODULO!$J$9="SI",$B$97,0) -> 0 | G97: =IF(MODULO!$J$9="SI",$B$97,0) -> 0 | I97: =IF(MODULO!$J$9="SI",$B$97,0) -> 0 | K97: =IF(MODULO!$J$9="SI",$B$97,0) -> 0 | M97: =IF(MODULO!$J$9="SI",$B$97,0) -> 0 | O97: =IF(MODULO!$J$9="SI",$B$97,0) -> 0
D98: Quantità: | F98: Quantità: | H98: Quantità: | J98: Quantità: | L98: Quantità: | N98: Quantità:
E104: COSTO TOTALE LAMPADA
A105: 140 Led/metro | B105: 35 | D105: =IF(E93<1500,17.5,35) -> 17.5 | E105: =(D105)+SUM(E95:E102) -> 27.5 | F105: =IF(G93<1500,17.5,35) -> 17.5 | G105: =(F105)+SUM(G95:G102) -> 27.5 | H105: =IF(I93<1500,17.5,35) -> 17.5 | I105: =(H105)+SUM(I95:I102) -> 27.5 | J105: =IF(K93<1500,17.5,35) -> 17.5 | K105: =(J105)+SUM(K95:K102) -> 27.5 | L105: =IF(M93<1500,17.5,35) -> 17.5 | M105: =(L105)+SUM(M95:M102) -> 27.5 | N105: =IF(O93<1500,17.5,35) -> 17.5 | O105: =($D$105)+SUM(O95:O102) -> 27.5
A106: Watt | B106: 9 | E106: =B106/1000*E93 -> 0 | G106: =B106/1000*G93 -> 0 | I106: =$B$106/1000*I93 -> 0 | K106: =$B$106/1000*K93 -> 0 | M106: =$B$106/1000*M93 -> 0 | O106: =$B$106/1000*O93 -> 0
A108: LINIE (incassata) | D108: n° | E108: A | F108: n° | G108: B | H108: n° | I108: C | J108: n° | K108: D | L108: n° | M108: E | O108: F
A109: Misura lampada | D109: =MODULO!$J$7 -> 0 | E109: =MODULO!$J$11 -> 0 | F109: =MODULO!$Q$7 -> 0 | G109: =MODULO!$Q$11 -> 0 | H109: =MODULO!$X$7 -> 0 | I109: =MODULO!$X$11 -> 0 | J109: =MODULO!$AE$7 -> 0 | K109: =MODULO!$AE$11 -> 0 | L109: =MODULO!$AL$7 -> 0 | M109: =MODULO!$AL$11 -> 0 | AC109: LAMPADE | AD109: SPORGENTE DRITTA MEC 1 | AE109: INCASSO DRITTA MEC 2 | AF109: SPORGENTE INCLINATA MEC 3 | AG109: INCASSO INCLINATA MEC 4 | AH109: INCASSO DRITTA LINIE | AI109: JL COB esterna | AJ109: JL COB incasso | AK109: INCASSO INCLINATA RIFT
V110: 1 | W110: 2 | X110: 3 | Y110: 4 | Z110: 5 | AC110: SPORGENTE DRITTA MEC 1 profilo GRIGIO | AD110: CAVO | AE110: CAVO | AF110: CAVO | AG110: CAVO | AH110: CAVO | AI110: CAVO | AJ110: CAVO | AK110: CAVO
A111: Montaggio | B111: 10 | E111: =$B111 -> 10 | G111: =$B111 -> 10 | I111: =$B111 -> 10 | K111: =$B111 -> 10 | M111: =$B111 -> 10 | O111: =$B111 -> 10 | V111: SUPPORTI | AC111: SPORGENTE DRITTA MEC 1 profilo NERO | AD111: TOUCH INTEGRATO | AE111: TOUCH INTEGRATO | AF111: TOUCH INTEGRATO | AG111: TOUCH INTEGRATO | AI111: TOUCH INTEGRATO | AJ111: TOUCH INTEGRATO
A112: Profilo | B112: 7 | E112: =$B112/3000*E109 -> 0 | G112: =$B112/3000*G109 -> 0 | I112: =$B112/3000*I109 -> 0 | K112: =$B112/3000*K109 -> 0 | M112: =$B112/3000*M109 -> 0 | O112: =$B112/3000*O109 -> 0 | U112: MEC-1/3 | V112: =IF(MODULO!$N$14<>"",MODULO!$N$14,IF(AND(MODULO!$J$11<1200),2,IF(AND(MODULO!$J$11>=1200,MODULO!$J$11<1700),3,IF(AND(MODULO!$J$11>=1700,MODULO!$J$11<2200),4,IF(AND(MODULO!$J$11>=2200,MODULO!$J$11<2700),5,IF(AND(MODULO!$J$11>=2700,MODULO!$J$11<3200),6,IF(AND(MODULO!$J$11>=3200,MODULO!$J$11<3700),7,IF(AND(MODULO!$J$11>=3700,MODULO!$J$11<4200),8,IF(AND(MODULO!$J$11>=4200),9))))))))) -> 2 | W112: =IF(MODULO!$U$14<>"",MODULO!$U$14,IF(AND(MODULO!$Q$11<1200),2,IF(AND(MODULO!$Q$11>=1200,MODULO!$Q$11<1700),3,IF(AND(MODULO!$Q$11>=1700,MODULO!$Q$11<2200),4,IF(AND(MODULO!$Q$11>=2200,MODULO!$Q$11<2700),5,IF(AND(MODULO!$Q$11>=2700,MODULO!$Q$11<3200),6,IF(AND(MODULO!$Q$11>=3200,MODULO!$Q$11<3700),7,IF(AND(MODULO!$Q$11>=3700,MODULO!$Q$11<4200),8,IF(AND(MODULO!$Q$11>=4200),9))))))))) -> 2 | X112: =IF(MODULO!$AB$14<>"",MODULO!$AB$14,IF(AND(MODULO!$X$11<1200),2,IF(AND(MODULO!$X$11>=1200,MODULO!$X$11<1700),3,IF(AND(MODULO!$X$11>=1700,MODULO!$X$11<2200),4,IF(AND(MODULO!$X$11>=2200,MODULO!$X$11<2700),5,IF(AND(MODULO!$X$11>=2700,MODULO!$X$11<3200),6,IF(AND(MODULO!$X$11>=3200,MODULO!$X$11<3700),7,IF(AND(MODULO!$X$11>=3700,MODULO!$X$11<4200),8,IF(AND(MODULO!$X$11>=4200),9))))))))) -> 2 | Y112: =IF(MODULO!$AI$14<>"",MODULO!$AI$14,IF(AND(MODULO!$AE$11<1200),2,IF(AND(MODULO!$AE$11>=1200,MODULO!$AE$11<1700),3,IF(AND(MODULO!$AE$11>=1700,MODULO!$AE$11<2200),4,IF(AND(MODULO!$AE$11>=2200,MODULO!$AE$11<2700),5,IF(AND(MODULO!$AE$11>=2700,MODULO!$AE$11<3200),6,IF(AND(MODULO!$AE$11>=3200,MODULO!$AE$11<3700),7,IF(AND(MODULO!$AE$11>=3700,MODULO!$AE$11<4200),8,IF(AND(MODULO!$AE$11>=4200),9))))))))) -> 2 | Z112: =IF(MODULO!$AP$14<>"",MODULO!$AP$14,IF(AND(MODULO!$AL$11<1200),2,IF(AND(MODULO!$AL$11>=1200,MODULO!$AL$11<1700),3,IF(AND(MODULO!$AL$11>=1700,MODULO!$AL$11<2200),4,IF(AND(MODULO!$AL$11>=2200,MODULO!$AL$11<2700),5,IF(AND(MODULO!$AL$11>=2700,MODULO!$AL$11<3200),6,IF(AND(MODULO!$AL$11>=3200,MODULO!$AL$11<3700),7,IF(AND(MODULO!$AL$11>=3700,MODULO!$AL$11<4200),8,IF(AND(MODULO!$AL$11>=4200),9))))))))) -> 2 | AC112: INCASSO DRITTA MEC 2 | AD112: PIR INTEGRATO | AE112: PIR INTEGRATO | AF112: PIR INTEGRATO | AG112: PIR INTEGRATO
A113: Schermo | B113: 9.6 | E113: =B113/3000*E109 -> 0 | G113: =B113/3000*G109 -> 0 | I113: =$B$113/3000*I109 -> 0 | K113: =$B$113/3000*K109 -> 0 | M113: =$B$113/3000*M109 -> 0 | O113: =$B$113/3000*O109 -> 0 | U113: MEC-2 | V113: =IF(MODULO!$N$14<>"",MODULO!$N$14,IF(AND(MODULO!$J$11<1200),1,IF(AND(MODULO!$J$11>=1200,MODULO!$J$11<2200),2,IF(AND(MODULO!$J$11>=2200,MODULO!$J$11<3200),3,IF(AND(MODULO!$J$11>=3200,MODULO!$J$11<4200),4,IF(AND(MODULO!$J$11>=4200),5)))))) -> 1 | W113: =IF(MODULO!$U$14<>"",MODULO!$U$14,IF(AND(MODULO!$Q$11<1200),1,IF(AND(MODULO!$Q$11>=1200,MODULO!$Q$11<2200),2,IF(AND(MODULO!$Q$11>=2200,MODULO!$Q$11<3200),3,IF(AND(MODULO!$Q$11>=3200,MODULO!$Q$11<4200),4,IF(AND(MODULO!$Q$11>=4200),5)))))) -> 1 | X113: =IF(MODULO!$AB$14<>"",MODULO!$AB$14,IF(AND(MODULO!$X$11<1200),1,IF(AND(MODULO!$X$11>=1200,MODULO!$X$11<2200),2,IF(AND(MODULO!$X$11>=2200,MODULO!$X$11<3200),3,IF(AND(MODULO!$X$11>=3200,MODULO!$X$11<4200),4,IF(AND(MODULO!$X$11>=4200),5)))))) -> 1 | Y113: =IF(MODULO!$AI$14<>"",MODULO!$AI$14,IF(AND(MODULO!$AE$11<1200),1,IF(AND(MODULO!$AE$11>=1200,MODULO!$AE$11<2200),2,IF(AND(MODULO!$AE$11>=2200,MODULO!$AE$11<3200),3,IF(AND(MODULO!$AE$11>=3200,MODULO!$AE$11<4200),4,IF(AND(MODULO!$AE$11>=4200),5)))))) -> 1 | Z113: =IF(MODULO!$AP$14<>"",MODULO!$AP$14,IF(AND(MODULO!$AL$11<1200),1,IF(AND(MODULO!$AL$11>=1200,MODULO!$AL$11<2200),2,IF(AND(MODULO!$AL$11>=2200,MODULO!$AL$11<3200),3,IF(AND(MODULO!$AL$11>=3200,MODULO!$AL$11<4200),4,IF(AND(MODULO!$AL$11>=4200),5)))))) -> 1 | AC113: SPORGENTE INCLINATA MEC 3 profilo GRIGIO | AD113: IR INTEGRATO | AE113: IR INTEGRATO | AF113: IR INTEGRATO | AG113: IR INTEGRATO
D114: Quantità: | F114: Quantità: | H114: Quantità: | J114: Quantità: | L114: Quantità: | N114: Quantità: | U114: MEC-4 | V114: =IF(MODULO!$N$14<>"",MODULO!$N$14,IF(AND(MODULO!$J$11<1200),3,IF(AND(MODULO!$J$11>=1200,MODULO!$J$11<1700),5,IF(AND(MODULO!$J$11>=1700,MODULO!$J$11<2200),6,IF(AND(MODULO!$J$11>=2200,MODULO!$J$11<2700),8,IF(AND(MODULO!$J$11>=2700,MODULO!$J$11<3200),9,IF(AND(MODULO!$J$11>=3200,MODULO!$J$11<3700),11,IF(AND(MODULO!$J$11>=3700,MODULO!$J$11<4200),12,IF(AND(MODULO!$J$11>=4200),14))))))))) -> 3 | W114: =IF(MODULO!$U$14<>"",MODULO!$U$14,IF(AND(MODULO!$Q$11<1200),3,IF(AND(MODULO!$Q$11>=1200,MODULO!$Q$11<1700),5,IF(AND(MODULO!$Q$11>=1700,MODULO!$Q$11<2200),6,IF(AND(MODULO!$Q$11>=2200,MODULO!$Q$11<2700),8,IF(AND(MODULO!$Q$11>=2700,MODULO!$Q$11<3200),9,IF(AND(MODULO!$Q$11>=3200,MODULO!$Q$11<3700),11,IF(AND(MODULO!$Q$11>=3700,MODULO!$Q$11<4200),12,IF(AND(MODULO!$Q$11>=4200),14))))))))) -> 3 | X114: =IF(MODULO!$AB$14<>"",MODULO!$AB$14,IF(AND(MODULO!$X$11<1200),3,IF(AND(MODULO!$X$11>=1200,MODULO!$X$11<1700),5,IF(AND(MODULO!$X$11>=1700,MODULO!$X$11<2200),6,IF(AND(MODULO!$X$11>=2200,MODULO!$X$11<2700),8,IF(AND(MODULO!$X$11>=2700,MODULO!$X$11<3200),9,IF(AND(MODULO!$X$11>=3200,MODULO!$X$11<3700),11,IF(AND(MODULO!$X$11>=3700,MODULO!$X$11<4200),12,IF(AND(MODULO!$X$11>=4200),14))))))))) -> 3 | Y114: =IF(MODULO!$AI$14<>"",MODULO!$AI$14,IF(AND(MODULO!$AE$11<1200),3,IF(AND(MODULO!$AE$11>=1200,MODULO!$AE$11<1700),5,IF(AND(MODULO!$AE$11>=1700,MODULO!$AE$11<2200),6,IF(AND(MODULO!$AE$11>=2200,MODULO!$AE$11<2700),8,IF(AND(MODULO!$AE$11>=2700,MODULO!$AE$11<3200),9,IF(AND(MODULO!$AE$11>=3200,MODULO!$AE$11<3700),11,IF(AND(MODULO!$AE$11>=3700,MODULO!$AE$11<4200),12,IF(AND(MODULO!$AE$11>=4200),14))))))))) -> 3 | Z114: =IF(MODULO!$AP$14<>"",MODULO!$AP$14,IF(AND(MODULO!$AL$11<1200),3,IF(AND(MODULO!$AL$11>=1200,MODULO!$AL$11<1700),5,IF(AND(MODULO!$AL$11>=1700,MODULO!$AL$11<2200),6,IF(AND(MODULO!$AL$11>=2200,MODULO!$AL$11<2700),8,IF(AND(MODULO!$AL$11>=2700,MODULO!$AL$11<3200),9,IF(AND(MODULO!$AL$11>=3200,MODULO!$AL$11<3700),11,IF(AND(MODULO!$AL$11>=3700,MODULO!$AL$11<4200),12,IF(AND(MODULO!$AL$11>=4200),14))))))))) -> 3 | AC114: SPORGENTE INCLINATA MEC 3 profilo NERO
U115: JL COB esterna | V115: =IF(MODULO!$N$14<>"",MODULO!$N$14,IF(AND(MODULO!$J$11<1200),3,IF(AND(MODULO!$J$11>=1200,MODULO!$J$11<1700),5,IF(AND(MODULO!$J$11>=1700,MODULO!$J$11<2200),6,IF(AND(MODULO!$J$11>=2200,MODULO!$J$11<2700),8,IF(AND(MODULO!$J$11>=2700,MODULO!$J$11<3200),9,IF(AND(MODULO!$J$11>=3200,MODULO!$J$11<3700),11,IF(AND(MODULO!$J$11>=3700,MODULO!$J$11<4200),12,IF(AND(MODULO!$J$11>=4200),14))))))))) -> 3 | W115: =IF(MODULO!$U$14<>"",MODULO!$U$14,IF(AND(MODULO!$Q$11<1200),3,IF(AND(MODULO!$Q$11>=1200,MODULO!$Q$11<1700),5,IF(AND(MODULO!$Q$11>=1700,MODULO!$Q$11<2200),6,IF(AND(MODULO!$Q$11>=2200,MODULO!$Q$11<2700),8,IF(AND(MODULO!$Q$11>=2700,MODULO!$Q$11<3200),9,IF(AND(MODULO!$Q$11>=3200,MODULO!$Q$11<3700),11,IF(AND(MODULO!$Q$11>=3700,MODULO!$Q$11<4200),12,IF(AND(MODULO!$Q$11>=4200),14))))))))) -> 3 | X115: =IF(MODULO!$AB$14<>"",MODULO!$AB$14,IF(AND(MODULO!$X$11<1200),3,IF(AND(MODULO!$X$11>=1200,MODULO!$X$11<1700),5,IF(AND(MODULO!$X$11>=1700,MODULO!$X$11<2200),6,IF(AND(MODULO!$X$11>=2200,MODULO!$X$11<2700),8,IF(AND(MODULO!$X$11>=2700,MODULO!$X$11<3200),9,IF(AND(MODULO!$X$11>=3200,MODULO!$X$11<3700),11,IF(AND(MODULO!$X$11>=3700,MODULO!$X$11<4200),12,IF(AND(MODULO!$X$11>=4200),14))))))))) -> 3 | Y115: =IF(MODULO!$AI$14<>"",MODULO!$AI$14,IF(AND(MODULO!$AE$11<1200),3,IF(AND(MODULO!$AE$11>=1200,MODULO!$AE$11<1700),5,IF(AND(MODULO!$AE$11>=1700,MODULO!$AE$11<2200),6,IF(AND(MODULO!$AE$11>=2200,MODULO!$AE$11<2700),8,IF(AND(MODULO!$AE$11>=2700,MODULO!$AE$11<3200),9,IF(AND(MODULO!$AE$11>=3200,MODULO!$AE$11<3700),11,IF(AND(MODULO!$AE$11>=3700,MODULO!$AE$11<4200),12,IF(AND(MODULO!$AE$11>=4200),14))))))))) -> 3 | Z115: =IF(MODULO!$AP$14<>"",MODULO!$AP$14,IF(AND(MODULO!$AL$11<1200),3,IF(AND(MODULO!$AL$11>=1200,MODULO!$AL$11<1700),5,IF(AND(MODULO!$AL$11>=1700,MODULO!$AL$11<2200),6,IF(AND(MODULO!$AL$11>=2200,MODULO!$AL$11<2700),8,IF(AND(MODULO!$AL$11>=2700,MODULO!$AL$11<3200),9,IF(AND(MODULO!$AL$11>=3200,MODULO!$AL$11<3700),11,IF(AND(MODULO!$AL$11>=3700,MODULO!$AL$11<4200),12,IF(AND(MODULO!$AL$11>=4200),14))))))))) -> 3 | AC115: INCASSO INCLINATA MEC 4
E116: COSTO TOTALE LAMPADA | AC116: INCASSO DRITTA LINIE
A117: 140 Led/metro | B117: 35 | D117: =IF(E109<1500,17.5,35) -> 17.5 | E117: =(D117)+SUM(E111:E113) -> 27.5 | F117: =IF(G109<1500,17.5,35) -> 17.5 | G117: =(F117)+SUM(G111:G113) -> 27.5 | H117: =IF(I109<1500,17.5,35) -> 17.5 | I117: =(H117)+SUM(I111:I113) -> 27.5 | J117: =IF(K109<1500,17.5,35) -> 17.5 | K117: =(J117)+SUM(K111:K113) -> 27.5 | L117: =IF(M109<1500,17.5,35) -> 17.5 | M117: =(L117)+SUM(M111:M113) -> 27.5 | N117: =IF(O109<1500,17.5,35) -> 17.5 | O117: =(N117)+SUM(O111:O113) -> 27.5 | AC117: JL COB esterna
A118: Watt | B118: 9 | E118: =B118/1000*E109 -> 0 | G118: =B118/1000*G109 -> 0 | I118: =$B$118/1000*I109 -> 0 | K118: =$B$118/1000*K109 -> 0 | M118: =$B$118/1000*M109 -> 0 | O118: =$B$118/1000*O109 -> 0 | AC118: JL COB incasso
AC119: .
A122: JL COB esterna | D122: n° | E122: A | F122: n° | G122: B | H122: n° | I122: C | J122: n° | K122: D | L122: n° | M122: E | O122: F
A123: Misura lampada | D123: =MODULO!$J$7 -> 0 | E123: =MODULO!$J$11 -> 0 | F123: =MODULO!$Q$7 -> 0 | G123: =MODULO!$Q$11 -> 0 | H123: =MODULO!$X$7 -> 0 | I123: =MODULO!$X$11 -> 0 | J123: =MODULO!$AE$7 -> 0 | K123: =MODULO!$AE$11 -> 0 | L123: =MODULO!$AL$7 -> 0 | M123: =MODULO!$AL$11 -> 0
A125: Montaggio | B125: 20 | E125: =$B125 -> 20 | G125: =$B125 -> 20 | I125: =$B125 -> 20 | K125: =$B125 -> 20 | M125: =$B125 -> 20 | O125: =$B125 -> 20
A126: Profilo e schermo | B126: 14.4 | E126: =$B126/3000*E123 -> 0 | G126: =$B126/3000*G123 -> 0 | I126: =$B126/3000*I123 -> 0 | K126: =$B126/3000*K123 -> 0 | M126: =$B126/3000*M123 -> 0 | O126: =$B126/3000*O123 -> 0
...
